BEGIN:VCALENDAR
VERSION:2.0
PRODID:-//MCIA - ECPv6.15.20//NONSGML v1.0//EN
CALSCALE:GREGORIAN
METHOD:PUBLISH
X-ORIGINAL-URL:https://www.mncia.org
X-WR-CALDESC:Events for MCIA
REFRESH-INTERVAL;VALUE=DURATION:PT1H
X-Robots-Tag:noindex
X-PUBLISHED-TTL:PT1H
BEGIN:VTIMEZONE
TZID:America/Chicago
BEGIN:DAYLIGHT
TZOFFSETFROM:-0600
TZOFFSETTO:-0500
TZNAME:CDT
DTSTART:20190310T080000
END:DAYLIGHT
BEGIN:STANDARD
TZOFFSETFROM:-0500
TZOFFSETTO:-0600
TZNAME:CST
DTSTART:20191103T070000
END:STANDARD
BEGIN:DAYLIGHT
TZOFFSETFROM:-0600
TZOFFSETTO:-0500
TZNAME:CDT
DTSTART:20200308T080000
END:DAYLIGHT
BEGIN:STANDARD
TZOFFSETFROM:-0500
TZOFFSETTO:-0600
TZNAME:CST
DTSTART:20201101T070000
END:STANDARD
BEGIN:DAYLIGHT
TZOFFSETFROM:-0600
TZOFFSETTO:-0500
TZNAME:CDT
DTSTART:20210314T080000
END:DAYLIGHT
BEGIN:STANDARD
TZOFFSETFROM:-0500
TZOFFSETTO:-0600
TZNAME:CST
DTSTART:20211107T070000
END:STANDARD
BEGIN:DAYLIGHT
TZOFFSETFROM:-0600
TZOFFSETTO:-0500
TZNAME:CDT
DTSTART:20220313T080000
END:DAYLIGHT
BEGIN:STANDARD
TZOFFSETFROM:-0500
TZOFFSETTO:-0600
TZNAME:CST
DTSTART:20221106T070000
END:STANDARD
BEGIN:DAYLIGHT
TZOFFSETFROM:-0600
TZOFFSETTO:-0500
TZNAME:CDT
DTSTART:20230312T080000
END:DAYLIGHT
BEGIN:STANDARD
TZOFFSETFROM:-0500
TZOFFSETTO:-0600
TZNAME:CST
DTSTART:20231105T070000
END:STANDARD
BEGIN:DAYLIGHT
TZOFFSETFROM:-0600
TZOFFSETTO:-0500
TZNAME:CDT
DTSTART:20240310T080000
END:DAYLIGHT
BEGIN:STANDARD
TZOFFSETFROM:-0500
TZOFFSETTO:-0600
TZNAME:CST
DTSTART:20241103T070000
END:STANDARD
BEGIN:DAYLIGHT
TZOFFSETFROM:-0600
TZOFFSETTO:-0500
TZNAME:CDT
DTSTART:20250309T080000
END:DAYLIGHT
BEGIN:STANDARD
TZOFFSETFROM:-0500
TZOFFSETTO:-0600
TZNAME:CST
DTSTART:20251102T070000
END:STANDARD
BEGIN:DAYLIGHT
TZOFFSETFROM:-0600
TZOFFSETTO:-0500
TZNAME:CDT
DTSTART:20260308T080000
END:DAYLIGHT
BEGIN:STANDARD
TZOFFSETFROM:-0500
TZOFFSETTO:-0600
TZNAME:CST
DTSTART:20261101T070000
END:STANDARD
END:VTIMEZONE
BEGIN:VEVENT
DTSTART;TZID=America/Chicago:20250616T080000
DTEND;TZID=America/Chicago:20250619T170000
DTSTAMP:20260419T185908
CREATED:20250603T203831Z
LAST-MODIFIED:20250603T204653Z
UID:5871-1750060800-1750352400@www.mncia.org
SUMMARY:AOSCA 2025 Annual Meeting
DESCRIPTION:Association of Official Seed Certifying Agencies (AOSCA) welcomes all Members to attend the 2025 Annual Meeting being held in Kansas City\, KS.
URL:https://www.mncia.org/event/aosca-2025-annual-meeting-in-kansas-city/
LOCATION:DoubleTree by Hilton – Overland Park KS\, 10100 College Boulevard\, Overland Park\, KS\, 66210\, United States
CATEGORIES:AOSCA
END:VEVENT
BEGIN:VEVENT
DTSTART;VALUE=DATE:20250415
DTEND;VALUE=DATE:20250416
DTSTAMP:20260419T185908
CREATED:20241115T140425Z
LAST-MODIFIED:20241115T140425Z
UID:5334-1744675200-1744761599@www.mncia.org
SUMMARY:AOSCA Northern Regional Meeting
DESCRIPTION:
URL:https://www.mncia.org/event/aosca-northern-regional-meeting/
LOCATION:Virtual
CATEGORIES:AOSCA
END:VEVENT
BEGIN:VEVENT
DTSTART;VALUE=DATE:20240616
DTEND;VALUE=DATE:20240620
DTSTAMP:20260419T185908
CREATED:20231222T140430Z
LAST-MODIFIED:20231222T140430Z
UID:4385-1718496000-1718841599@www.mncia.org
SUMMARY:AOSCA Annual Meeting
DESCRIPTION:
URL:https://www.mncia.org/event/aosca-annual-meeting-4/
LOCATION:Sandestin Golf and Beach Resort\, 9300 Emerald Coast Pkwy W\, Miramar Beach\, FL\, 32550\, United States
CATEGORIES:AOSCA
END:VEVENT
BEGIN:VEVENT
DTSTART;VALUE=DATE:20240408
DTEND;VALUE=DATE:20240411
DTSTAMP:20260419T185908
CREATED:20231103T163806Z
LAST-MODIFIED:20240306T135321Z
UID:4157-1712534400-1712793599@www.mncia.org
SUMMARY:AOSCA North & West Regional Meeting
DESCRIPTION:
URL:https://www.mncia.org/event/aosca-north-west-regional-meeting/
LOCATION:State Game Lodge\, Custer State Park Resort\, 13389 US Hwy 16A\, Custer\, SD\, 57730\, United States
CATEGORIES:AOSCA
END:VEVENT
BEGIN:VEVENT
DTSTART;VALUE=DATE:20230603
DTEND;VALUE=DATE:20230608
DTSTAMP:20260419T185908
CREATED:20230213T225440Z
LAST-MODIFIED:20230213T225440Z
UID:3719-1685750400-1686182399@www.mncia.org
SUMMARY:AOSCA Annual Meeting
DESCRIPTION:
URL:https://www.mncia.org/event/aosca-annual-meeting-3/
LOCATION:Hyatt Regency Bloomington – Minneapolis\, 3200 E 81st St\, Bloomington\, MN\, 55425\, United States
CATEGORIES:AOSCA
END:VEVENT
BEGIN:VEVENT
DTSTART;VALUE=DATE:20230405
DTEND;VALUE=DATE:20230408
DTSTAMP:20260419T185908
CREATED:20230214T230816Z
LAST-MODIFIED:20241115T135910Z
UID:3723-1680652800-1680911999@www.mncia.org
SUMMARY:AOSCA Northern Region Meeting
DESCRIPTION:
URL:https://www.mncia.org/event/aosca-northern-region-meeting-4/
LOCATION:Lincoln Marriott Cornhusker Hotel\, 333 S 13th St\, Lincoln\, NE\, 68508\, United States
CATEGORIES:AOSCA
END:VEVENT
BEGIN:VEVENT
DTSTART;VALUE=DATE:20220619
DTEND;VALUE=DATE:20220623
DTSTAMP:20260419T185908
CREATED:20220427T220430Z
LAST-MODIFIED:20220427T220603Z
UID:2820-1655596800-1655942399@www.mncia.org
SUMMARY:AOSCA Annual Meeting
DESCRIPTION:After a two year hiatus meeting remotely\, we are happy to announce we will meet in person for the 2022 AOSCA Annual Meeting. It will be held June 19-22\, 2022 in Wenatchee\, Washington and we hope you can attend. \nOur hosts are Washington State Crop Improvement Association and Washington State Department of Agriculture and they are organizing a meeting that will be valuable to participants and enjoyable for the entire family.
URL:https://www.mncia.org/event/aosca-annual-meeting-2/
LOCATION:Wenatchee Convention Center\, 121 North Wenatchee Ave\, Wenatchee\, WA\, 98801\, United States
CATEGORIES:AOSCA
END:VEVENT
BEGIN:VEVENT
DTSTART;VALUE=DATE:20220419
DTEND;VALUE=DATE:20220421
DTSTAMP:20260419T185908
CREATED:20220318T190037Z
LAST-MODIFIED:20220318T190037Z
UID:2710-1650326400-1650499199@www.mncia.org
SUMMARY:AOSCA Northern Region Meeting
DESCRIPTION:AOSCA Northern Region Meeting. Location: Lafayette\, Indiana. Contact AOSCA at 309-736-0120 for details.
URL:https://www.mncia.org/event/aosca-northern-region-meeting-3/
LOCATION:KS
CATEGORIES:AOSCA
END:VEVENT
BEGIN:VEVENT
DTSTART;VALUE=DATE:20210622
DTEND;VALUE=DATE:20210624
DTSTAMP:20260419T185908
CREATED:20210512T182840Z
LAST-MODIFIED:20210603T192219Z
UID:1512-1624320000-1624492799@www.mncia.org
SUMMARY:AOSCA Annual Meeting
DESCRIPTION:2021 Annual Meeting of the Association of Official Seed Certifying Agencies. This year’s meeting will be held virtually.
URL:https://www.mncia.org/event/aosca-annual-meeting/
LOCATION:KS
CATEGORIES:AOSCA
END:VEVENT
BEGIN:VEVENT
DTSTART;VALUE=DATE:20210421
DTEND;VALUE=DATE:20210423
DTSTAMP:20260419T185908
CREATED:20210316T220444Z
LAST-MODIFIED:20210316T220444Z
UID:1333-1618963200-1619135999@www.mncia.org
SUMMARY:AOSCA Northern Region Meeting
DESCRIPTION:
URL:https://www.mncia.org/event/aosca-northern-region-meeting-2/
LOCATION:KS
CATEGORIES:AOSCA
END:VEVENT
BEGIN:VEVENT
DTSTART;VALUE=DATE:20200422
DTEND;VALUE=DATE:20200423
DTSTAMP:20260419T185908
CREATED:20200417T232459Z
LAST-MODIFIED:20200417T232459Z
UID:773-1587513600-1587599999@www.mncia.org
SUMMARY:AOSCA Northern Region Meeting
DESCRIPTION:This meeting will be held via conference call. Contact AOSCA for details.
URL:https://www.mncia.org/event/aosca-northern-region-meeting/
LOCATION:KS
CATEGORIES:AOSCA
END:VEVENT
END:VCALENDAR