BEGIN:VCALENDAR
VERSION:2.0
PRODID:-//MCIA - ECPv6.15.20//NONSGML v1.0//EN
CALSCALE:GREGORIAN
METHOD:PUBLISH
X-ORIGINAL-URL:https://www.mncia.org
X-WR-CALDESC:Events for MCIA
REFRESH-INTERVAL;VALUE=DURATION:PT1H
X-Robots-Tag:noindex
X-PUBLISHED-TTL:PT1H
BEGIN:VTIMEZONE
TZID:America/Chicago
BEGIN:DAYLIGHT
TZOFFSETFROM:-0600
TZOFFSETTO:-0500
TZNAME:CDT
DTSTART:20200308T080000
END:DAYLIGHT
BEGIN:STANDARD
TZOFFSETFROM:-0500
TZOFFSETTO:-0600
TZNAME:CST
DTSTART:20201101T070000
END:STANDARD
BEGIN:DAYLIGHT
TZOFFSETFROM:-0600
TZOFFSETTO:-0500
TZNAME:CDT
DTSTART:20210314T080000
END:DAYLIGHT
BEGIN:STANDARD
TZOFFSETFROM:-0500
TZOFFSETTO:-0600
TZNAME:CST
DTSTART:20211107T070000
END:STANDARD
BEGIN:DAYLIGHT
TZOFFSETFROM:-0600
TZOFFSETTO:-0500
TZNAME:CDT
DTSTART:20220313T080000
END:DAYLIGHT
BEGIN:STANDARD
TZOFFSETFROM:-0500
TZOFFSETTO:-0600
TZNAME:CST
DTSTART:20221106T070000
END:STANDARD
BEGIN:DAYLIGHT
TZOFFSETFROM:-0600
TZOFFSETTO:-0500
TZNAME:CDT
DTSTART:20230312T080000
END:DAYLIGHT
BEGIN:STANDARD
TZOFFSETFROM:-0500
TZOFFSETTO:-0600
TZNAME:CST
DTSTART:20231105T070000
END:STANDARD
END:VTIMEZONE
BEGIN:VEVENT
DTSTART;TZID=America/Chicago:20220721T083000
DTEND;TZID=America/Chicago:20220721T120000
DTSTAMP:20260421T185805
CREATED:20220505T214147Z
LAST-MODIFIED:20220617T145931Z
UID:2862-1658392200-1658404800@www.mncia.org
SUMMARY:Marbleseed On-farm Field Day
DESCRIPTION:Crop Rotations on a Large-scale Organic Farm: Join 2013 MOSES Farmer of the Year Charlie Johnson and his family for their annual field day and bus tour in South Dakota! Learn how the importance of good crop rotations in an organic system and grazing contribute to resilient\, healthy soil. Oat trials in their fourth year\, conducted by SDSU on the Johnson Farm\, will also be one of the bus tour stops. Lunch will also be provided.
URL:https://www.mncia.org/event/marbleseed-on-farm-field-day-crop-rotations-on-a-large-scale-organic-farm/
LOCATION:St. Peter on the Prairie\, 24311 452nd Ave\, Madison\, SD\, United States
CATEGORIES:Marbleseed Field Day
END:VEVENT
BEGIN:VEVENT
DTSTART;VALUE=DATE:20220716
DTEND;VALUE=DATE:20220717
DTSTAMP:20260421T185805
CREATED:20220505T213347Z
LAST-MODIFIED:20220617T150029Z
UID:2856-1657929600-1658015999@www.mncia.org
SUMMARY:Marbleseed On-farm Field Day
DESCRIPTION:Pollinator Habitat in Apple Orchards: Join pollinator biologist Sarah Foltz Jordan of the Xerces Society\, and farmers Jim & Debbie Morrison of Sapsucker Farm for a buzz-worthy field day focused on pollinator habitat in an orchard setting. Tour the farm from the perspective of a bumble bee\, looking at foraging & nesting resources\, protection from pesticides\, and the many innovative habitat strategies that Sapsucker Farm has employed.
URL:https://www.mncia.org/event/marbleseed-on-farm-field-day-pollinator-habitat-in-apple-orchards/
LOCATION:Sapsucker Farms\, 2752 215th Avenue\, Mora\, MN\, 55051\, United States
CATEGORIES:Marbleseed Field Day
END:VEVENT
BEGIN:VEVENT
DTSTART;TZID=America/Chicago:20220618T130000
DTEND;TZID=America/Chicago:20220618T160000
DTSTAMP:20260421T185805
CREATED:20220505T212430Z
LAST-MODIFIED:20220617T150216Z
UID:2851-1655557200-1655568000@www.mncia.org
SUMMARY:Marbleseed On-farm Field Day
DESCRIPTION:Adding Small-scale Dairy Processing for Farm Diversity: Come and hear Cella Langer and Emmet Fischer share the story of how they started their small\, rotationally grazed dairy cow herd and on-farm\, Grade A creamery. Learn about direct marketing\, navigating the regulatory process for starting a dairy plant\, and answer any questions about starting and running this type of enterprise.
URL:https://www.mncia.org/event/marbleseed-on-farm-field-day-adding-small-scale-dairy-processing-for-farm-diversity/
LOCATION:Oxheart Farm\, W7902 290th Ave\, Hager City\, WI\, United States
CATEGORIES:Marbleseed Field Day
END:VEVENT
BEGIN:VEVENT
DTSTART;TZID=America/Chicago:20210821T090000
DTEND;TZID=America/Chicago:20210821T120000
DTSTAMP:20260421T185805
CREATED:20210603T191506Z
LAST-MODIFIED:20210611T195541Z
UID:1638-1629536400-1629547200@www.mncia.org
SUMMARY:MOSES Organic Field Day: Silvopasture
DESCRIPTION:Silvopasture for Livestock & Pollinators \nJoin MOSES for a silvopasture-pollinator field day at Mary Dirty Face Farm\, co-hosted with the Xerces Society. A silviculture expert from the Savanna Institute will evaluate recently planted tree strips and talk about species selection\, installation\, and weed management. Farm host Rachel Henderson and Xerces pollinator specialist Sarah Foltz Jordan will discuss habitat value both in terms of forage/shade for livestock and food/nesting for pollinators\, especially specialist bees\, butterflies\, and moths that require certain tree and shrub species to survive.
URL:https://www.mncia.org/event/moses-field-day-silvopasture/
LOCATION:Mary Dirty Face Farm\, N3060 630th St\, Menomonie\, WI\, 54751\, United States
CATEGORIES:Marbleseed Field Day
END:VEVENT
BEGIN:VEVENT
DTSTART;TZID=America/Chicago:20210818T110000
DTEND;TZID=America/Chicago:20210818T130000
DTSTAMP:20260421T185805
CREATED:20210512T171454Z
LAST-MODIFIED:20210603T192136Z
UID:1503-1629284400-1629291600@www.mncia.org
SUMMARY:MOSES Organic Field Day: Systems Approach
DESCRIPTION:MOSES Organic Specialist Rodrigo Cala shares the systems approach he uses on his organic farm\, focusing on sheep production with rotational grazing\, a perennial system for raising chickens\, and much more.
URL:https://www.mncia.org/event/moses-organic-field-day-systems-approach/
LOCATION:Cala Farm Origenes\, 1354 3¾ Street\, Turtle Lake\, WI\, 54889\, United States
CATEGORIES:Marbleseed Field Day
END:VEVENT
BEGIN:VEVENT
DTSTART;TZID=America/Chicago:20210602T140000
DTEND;TZID=America/Chicago:20210602T153000
DTSTAMP:20260421T185805
CREATED:20210512T170825Z
LAST-MODIFIED:20210603T192607Z
UID:1498-1622642400-1622647800@www.mncia.org
SUMMARY:MOSES Organic Field Day: Season Extension
DESCRIPTION:Take a virtual tour of the newly constructed high tunnel at Mhonpaj’s Garden\, the first farm in the Hmong community in Minnesota to be certified organic. MOSES Organic Specialist Mhonpaj Lee offers tips on high tunnel selection\, building\, and growing vegetables in this protected environment. \nIn addition\, the specific topics highlighted in our live virtual event will be discussed more in-depth in 5 separate videos that will be released between now and the end of June. Translation into Hmong and Spanish will be available on all recordings.
URL:https://www.mncia.org/event/moses-organic-field-day-season-extension-at-mhonpajs-garden/
LOCATION:SD
CATEGORIES:Marbleseed Field Day
END:VEVENT
END:VCALENDAR