BEGIN:VCALENDAR
VERSION:2.0
PRODID:-//MCIA - ECPv6.15.20//NONSGML v1.0//EN
CALSCALE:GREGORIAN
METHOD:PUBLISH
X-ORIGINAL-URL:https://www.mncia.org
X-WR-CALDESC:Events for MCIA
REFRESH-INTERVAL;VALUE=DURATION:PT1H
X-Robots-Tag:noindex
X-PUBLISHED-TTL:PT1H
BEGIN:VTIMEZONE
TZID:America/Chicago
BEGIN:DAYLIGHT
TZOFFSETFROM:-0600
TZOFFSETTO:-0500
TZNAME:CDT
DTSTART:20190310T080000
END:DAYLIGHT
BEGIN:STANDARD
TZOFFSETFROM:-0500
TZOFFSETTO:-0600
TZNAME:CST
DTSTART:20191103T070000
END:STANDARD
BEGIN:DAYLIGHT
TZOFFSETFROM:-0600
TZOFFSETTO:-0500
TZNAME:CDT
DTSTART:20200308T080000
END:DAYLIGHT
BEGIN:STANDARD
TZOFFSETFROM:-0500
TZOFFSETTO:-0600
TZNAME:CST
DTSTART:20201101T070000
END:STANDARD
BEGIN:DAYLIGHT
TZOFFSETFROM:-0600
TZOFFSETTO:-0500
TZNAME:CDT
DTSTART:20210314T080000
END:DAYLIGHT
BEGIN:STANDARD
TZOFFSETFROM:-0500
TZOFFSETTO:-0600
TZNAME:CST
DTSTART:20211107T070000
END:STANDARD
BEGIN:DAYLIGHT
TZOFFSETFROM:-0600
TZOFFSETTO:-0500
TZNAME:CDT
DTSTART:20220313T080000
END:DAYLIGHT
BEGIN:STANDARD
TZOFFSETFROM:-0500
TZOFFSETTO:-0600
TZNAME:CST
DTSTART:20221106T070000
END:STANDARD
BEGIN:DAYLIGHT
TZOFFSETFROM:-0600
TZOFFSETTO:-0500
TZNAME:CDT
DTSTART:20230312T080000
END:DAYLIGHT
BEGIN:STANDARD
TZOFFSETFROM:-0500
TZOFFSETTO:-0600
TZNAME:CST
DTSTART:20231105T070000
END:STANDARD
BEGIN:DAYLIGHT
TZOFFSETFROM:-0600
TZOFFSETTO:-0500
TZNAME:CDT
DTSTART:20240310T080000
END:DAYLIGHT
BEGIN:STANDARD
TZOFFSETFROM:-0500
TZOFFSETTO:-0600
TZNAME:CST
DTSTART:20241103T070000
END:STANDARD
BEGIN:DAYLIGHT
TZOFFSETFROM:-0600
TZOFFSETTO:-0500
TZNAME:CDT
DTSTART:20250309T080000
END:DAYLIGHT
BEGIN:STANDARD
TZOFFSETFROM:-0500
TZOFFSETTO:-0600
TZNAME:CST
DTSTART:20251102T070000
END:STANDARD
BEGIN:DAYLIGHT
TZOFFSETFROM:-0600
TZOFFSETTO:-0500
TZNAME:CDT
DTSTART:20260308T080000
END:DAYLIGHT
BEGIN:STANDARD
TZOFFSETFROM:-0500
TZOFFSETTO:-0600
TZNAME:CST
DTSTART:20261101T070000
END:STANDARD
BEGIN:DAYLIGHT
TZOFFSETFROM:-0600
TZOFFSETTO:-0500
TZNAME:CDT
DTSTART:20270314T080000
END:DAYLIGHT
BEGIN:STANDARD
TZOFFSETFROM:-0500
TZOFFSETTO:-0600
TZNAME:CST
DTSTART:20271107T070000
END:STANDARD
END:VTIMEZONE
BEGIN:VEVENT
DTSTART;VALUE=DATE:20260128
DTEND;VALUE=DATE:20260129
DTSTAMP:20260421T051629
CREATED:20250507T204909Z
LAST-MODIFIED:20250507T205039Z
UID:5849-1769558400-1769644799@www.mncia.org
SUMMARY:MCIA Annual Meeting
DESCRIPTION:
URL:https://www.mncia.org/event/mcia-annual-meeting-6/
LOCATION:Holiday Inn & Suites St. Cloud\, 75 S 37th Ave\, Saint Cloud\, MN\, 56301\, United States
CATEGORIES:MCIA Annual Meeting
ORGANIZER;CN="Minnesota Crop Improvement Association":MAILTO:mncia@mncia.org
END:VEVENT
BEGIN:VEVENT
DTSTART;TZID=America/Chicago:20250129T100000
DTEND;TZID=America/Chicago:20250129T150000
DTSTAMP:20260421T051629
CREATED:20240724T152734Z
LAST-MODIFIED:20241115T155711Z
UID:5059-1738144800-1738162800@www.mncia.org
SUMMARY:MCIA Annual Meeting
DESCRIPTION:For additional information about this event\, please visit MCIA’s Annual Meeting page.
URL:https://www.mncia.org/event/mcia-annual-meeting-5/
LOCATION:Holiday Inn & Suites St. Cloud\, 75 S 37th Ave\, Saint Cloud\, MN\, 56301\, United States
CATEGORIES:MCIA Annual Meeting
ORGANIZER;CN="Minnesota Crop Improvement Association":MAILTO:mncia@mncia.org
END:VEVENT
BEGIN:VEVENT
DTSTART;TZID=America/Chicago:20240124T100000
DTEND;TZID=America/Chicago:20240124T150000
DTSTAMP:20260421T051629
CREATED:20230908T154656Z
LAST-MODIFIED:20231103T152617Z
UID:4069-1706090400-1706108400@www.mncia.org
SUMMARY:MCIA Annual Meeting
DESCRIPTION:For additional information about this event\, please visit MCIA’s Annual Meeting page.
URL:https://www.mncia.org/event/mcia-annual-meeting-4/
LOCATION:Holiday Inn & Suites St. Cloud\, 75 S 37th Ave\, Saint Cloud\, MN\, 56301\, United States
CATEGORIES:MCIA Annual Meeting
ORGANIZER;CN="Minnesota Crop Improvement Association":MAILTO:mncia@mncia.org
END:VEVENT
BEGIN:VEVENT
DTSTART;VALUE=DATE:20230112
DTEND;VALUE=DATE:20230113
DTSTAMP:20260421T051629
CREATED:20220202T222414Z
LAST-MODIFIED:20220202T232027Z
UID:2513-1673481600-1673567999@www.mncia.org
SUMMARY:MCIA Annual Meeting
DESCRIPTION:Save the date for the 2023 MCIA Annual Meeting! The meeting venue and other details will be announced on the MCIA website in the fall of 2022.
URL:https://www.mncia.org/event/mcia-annual-meeting-3/
LOCATION:Bigwood Event Center\, 925 Western Ave\, Fergus Falls\, MN\, 56537\, United States
CATEGORIES:MCIA Annual Meeting
ORGANIZER;CN="Minnesota Crop Improvement Association":MAILTO:mncia@mncia.org
END:VEVENT
BEGIN:VEVENT
DTSTART;TZID=America/Chicago:20220112T090000
DTEND;TZID=America/Chicago:20220112T110000
DTSTAMP:20260421T051629
CREATED:20211004T190431Z
LAST-MODIFIED:20211203T231016Z
UID:2149-1641978000-1641985200@www.mncia.org
SUMMARY:MCIA Annual Meeting
DESCRIPTION:MCIA’s 2022 Annual Meeting will be held via Zoom. To register\, click: here. \nFor meeting documents and other details about this event\, please visit MCIA’s Annual Meeting page.
URL:https://www.mncia.org/event/mcia-annual-meeting-2/
LOCATION:Virtual
CATEGORIES:MCIA Annual Meeting
ORGANIZER;CN="Minnesota Crop Improvement Association":MAILTO:mncia@mncia.org
END:VEVENT
BEGIN:VEVENT
DTSTART;VALUE=DATE:20210113
DTEND;VALUE=DATE:20210114
DTSTAMP:20260421T051629
CREATED:20200915T212839Z
LAST-MODIFIED:20210316T214451Z
UID:986-1610496000-1610582399@www.mncia.org
SUMMARY:MCIA Annual Meeting
DESCRIPTION:For detailed information about this event\, please visit MCIA’s Annual Meeting page.
URL:https://www.mncia.org/event/mcia-annual-meeting/
LOCATION:MN
CATEGORIES:MCIA Annual Meeting
END:VEVENT
BEGIN:VEVENT
DTSTART;VALUE=DATE:20200108
DTEND;VALUE=DATE:20200109
DTSTAMP:20260421T051629
CREATED:20191206T204812Z
LAST-MODIFIED:20210316T215651Z
UID:255-1578441600-1578527999@www.mncia.org
SUMMARY:Annual Meeting
DESCRIPTION:
URL:https://www.mncia.org/event/annual-meeting/
LOCATION:Bigwood Event Center\, Fergus Falls
CATEGORIES:MCIA Annual Meeting
END:VEVENT
BEGIN:VEVENT
DTSTART;VALUE=DATE:20200106
DTEND;VALUE=DATE:20200108
DTSTAMP:20260421T051629
CREATED:20191206T204713Z
LAST-MODIFIED:20210316T215820Z
UID:252-1578333600-1578419999@www.mncia.org
SUMMARY:Annual Meeting Reception
DESCRIPTION:
URL:https://www.mncia.org/event/annual-meeting-reception/
LOCATION:Bigwood Event Center\, Fergus Falls
CATEGORIES:MCIA Annual Meeting
END:VEVENT
END:VCALENDAR