BEGIN:VCALENDAR
VERSION:2.0
PRODID:-//MCIA - ECPv6.15.20//NONSGML v1.0//EN
CALSCALE:GREGORIAN
METHOD:PUBLISH
X-WR-CALNAME:MCIA
X-ORIGINAL-URL:https://www.mncia.org
X-WR-CALDESC:Events for MCIA
REFRESH-INTERVAL;VALUE=DURATION:PT1H
X-Robots-Tag:noindex
X-PUBLISHED-TTL:PT1H
BEGIN:VTIMEZONE
TZID:America/Chicago
BEGIN:DAYLIGHT
TZOFFSETFROM:-0600
TZOFFSETTO:-0500
TZNAME:CDT
DTSTART:20220313T080000
END:DAYLIGHT
BEGIN:STANDARD
TZOFFSETFROM:-0500
TZOFFSETTO:-0600
TZNAME:CST
DTSTART:20221106T070000
END:STANDARD
BEGIN:DAYLIGHT
TZOFFSETFROM:-0600
TZOFFSETTO:-0500
TZNAME:CDT
DTSTART:20230312T080000
END:DAYLIGHT
BEGIN:STANDARD
TZOFFSETFROM:-0500
TZOFFSETTO:-0600
TZNAME:CST
DTSTART:20231105T070000
END:STANDARD
BEGIN:DAYLIGHT
TZOFFSETFROM:-0600
TZOFFSETTO:-0500
TZNAME:CDT
DTSTART:20240310T080000
END:DAYLIGHT
BEGIN:STANDARD
TZOFFSETFROM:-0500
TZOFFSETTO:-0600
TZNAME:CST
DTSTART:20241103T070000
END:STANDARD
END:VTIMEZONE
BEGIN:VEVENT
DTSTART;VALUE=DATE:20231115
DTEND;VALUE=DATE:20231116
DTSTAMP:20260420T200454
CREATED:20230130T164348Z
LAST-MODIFIED:20230130T164453Z
UID:3626-1700006400-1700092799@www.mncia.org
SUMMARY:MCIA Board of Directors Meeting
DESCRIPTION:Fall 2023 meeting of the MCIA Board of Directors.
URL:https://www.mncia.org/event/mcia-board-of-directors-meeting-9/
LOCATION:MCIA Office\, 1900 Hendon Ave\, Saint Paul\, MN\, 55423\, United States
CATEGORIES:MCIA Board of Directors
ORGANIZER;CN="Minnesota Crop Improvement Association":MAILTO:mncia@mncia.org
END:VEVENT
END:VCALENDAR