BEGIN:VCALENDAR
VERSION:2.0
PRODID:-//MCIA - ECPv6.15.20//NONSGML v1.0//EN
CALSCALE:GREGORIAN
METHOD:PUBLISH
X-ORIGINAL-URL:https://www.mncia.org
X-WR-CALDESC:Events for MCIA
REFRESH-INTERVAL;VALUE=DURATION:PT1H
X-Robots-Tag:noindex
X-PUBLISHED-TTL:PT1H
BEGIN:VTIMEZONE
TZID:America/Chicago
BEGIN:DAYLIGHT
TZOFFSETFROM:-0600
TZOFFSETTO:-0500
TZNAME:CDT
DTSTART:20210314T080000
END:DAYLIGHT
BEGIN:STANDARD
TZOFFSETFROM:-0500
TZOFFSETTO:-0600
TZNAME:CST
DTSTART:20211107T070000
END:STANDARD
BEGIN:DAYLIGHT
TZOFFSETFROM:-0600
TZOFFSETTO:-0500
TZNAME:CDT
DTSTART:20220313T080000
END:DAYLIGHT
BEGIN:STANDARD
TZOFFSETFROM:-0500
TZOFFSETTO:-0600
TZNAME:CST
DTSTART:20221106T070000
END:STANDARD
BEGIN:DAYLIGHT
TZOFFSETFROM:-0600
TZOFFSETTO:-0500
TZNAME:CDT
DTSTART:20230312T080000
END:DAYLIGHT
BEGIN:STANDARD
TZOFFSETFROM:-0500
TZOFFSETTO:-0600
TZNAME:CST
DTSTART:20231105T070000
END:STANDARD
BEGIN:DAYLIGHT
TZOFFSETFROM:-0600
TZOFFSETTO:-0500
TZNAME:CDT
DTSTART:20240310T080000
END:DAYLIGHT
BEGIN:STANDARD
TZOFFSETFROM:-0500
TZOFFSETTO:-0600
TZNAME:CST
DTSTART:20241103T070000
END:STANDARD
BEGIN:DAYLIGHT
TZOFFSETFROM:-0600
TZOFFSETTO:-0500
TZNAME:CDT
DTSTART:20250309T080000
END:DAYLIGHT
BEGIN:STANDARD
TZOFFSETFROM:-0500
TZOFFSETTO:-0600
TZNAME:CST
DTSTART:20251102T070000
END:STANDARD
BEGIN:DAYLIGHT
TZOFFSETFROM:-0600
TZOFFSETTO:-0500
TZNAME:CDT
DTSTART:20260308T080000
END:DAYLIGHT
BEGIN:STANDARD
TZOFFSETFROM:-0500
TZOFFSETTO:-0600
TZNAME:CST
DTSTART:20261101T070000
END:STANDARD
END:VTIMEZONE
BEGIN:VEVENT
DTSTART;VALUE=DATE:20250109
DTEND;VALUE=DATE:20250111
DTSTAMP:20260421T142352
CREATED:20241101T224613Z
LAST-MODIFIED:20241101T224613Z
UID:5276-1736380800-1736553599@www.mncia.org
SUMMARY:Minnesota Organic Conference
DESCRIPTION:Each year\, the Minnesota Department of Agriculture hosts this conference and trade show for farmers and others interested in organic agriculture. \nLocation: St. Cloud\, Minnesota
URL:https://www.mncia.org/event/minnesota-organic-conference-4/
LOCATION:River’s Edge Convention Center\, 10 4th Ave S\, Saint Cloud\, MN\, 56301\, United States
CATEGORIES:Minnesota Organic Conference
END:VEVENT
BEGIN:VEVENT
DTSTART;VALUE=DATE:20240111
DTEND;VALUE=DATE:20240113
DTSTAMP:20260421T142352
CREATED:20230922T143110Z
LAST-MODIFIED:20241101T224102Z
UID:4103-1704931200-1705103999@www.mncia.org
SUMMARY:Minnesota Organic Conference
DESCRIPTION:Each year\, the Minnesota Department of Agriculture hosts this conference and trade show for farmers and others interested in organic agriculture. \nLocation: St. Cloud\, Minnesota
URL:https://www.mncia.org/event/minnesota-organic-conference-3/
LOCATION:River’s Edge Convention Center\, 10 4th Ave S\, Saint Cloud\, MN\, 56301\, United States
CATEGORIES:Minnesota Organic Conference
END:VEVENT
BEGIN:VEVENT
DTSTART;VALUE=DATE:20230105
DTEND;VALUE=DATE:20230107
DTSTAMP:20260421T142352
CREATED:20230113T214555Z
LAST-MODIFIED:20241101T224759Z
UID:3538-1672876800-1673049599@www.mncia.org
SUMMARY:Minnesota Organic Conference
DESCRIPTION:
URL:https://www.mncia.org/event/minnesota-organic-conference-2/
LOCATION:River’s Edge Convention Center\, 10 4th Ave S\, Saint Cloud\, MN\, 56301\, United States
CATEGORIES:Minnesota Organic Conference
END:VEVENT
BEGIN:VEVENT
DTSTART;VALUE=DATE:20220106
DTEND;VALUE=DATE:20220108
DTSTAMP:20260421T142352
CREATED:20211208T161751Z
LAST-MODIFIED:20241101T224721Z
UID:2298-1641427200-1641599999@www.mncia.org
SUMMARY:Minnesota Organic Conference
DESCRIPTION:Each year\, the Minnesota Department of Agriculture hosts this conference and trade show for farmers and others interested in organic agriculture.
URL:https://www.mncia.org/event/minnesota-organic-conference/
LOCATION:Virtual
CATEGORIES:Minnesota Organic Conference
END:VEVENT
END:VCALENDAR