BEGIN:VCALENDAR
VERSION:2.0
PRODID:-//MCIA - ECPv6.15.20//NONSGML v1.0//EN
CALSCALE:GREGORIAN
METHOD:PUBLISH
X-ORIGINAL-URL:https://www.mncia.org
X-WR-CALDESC:Events for MCIA
REFRESH-INTERVAL;VALUE=DURATION:PT1H
X-Robots-Tag:noindex
X-PUBLISHED-TTL:PT1H
BEGIN:VTIMEZONE
TZID:America/Chicago
BEGIN:DAYLIGHT
TZOFFSETFROM:-0600
TZOFFSETTO:-0500
TZNAME:CDT
DTSTART:20210314T080000
END:DAYLIGHT
BEGIN:STANDARD
TZOFFSETFROM:-0500
TZOFFSETTO:-0600
TZNAME:CST
DTSTART:20211107T070000
END:STANDARD
BEGIN:DAYLIGHT
TZOFFSETFROM:-0600
TZOFFSETTO:-0500
TZNAME:CDT
DTSTART:20220313T080000
END:DAYLIGHT
BEGIN:STANDARD
TZOFFSETFROM:-0500
TZOFFSETTO:-0600
TZNAME:CST
DTSTART:20221106T070000
END:STANDARD
BEGIN:DAYLIGHT
TZOFFSETFROM:-0600
TZOFFSETTO:-0500
TZNAME:CDT
DTSTART:20230312T080000
END:DAYLIGHT
BEGIN:STANDARD
TZOFFSETFROM:-0500
TZOFFSETTO:-0600
TZNAME:CST
DTSTART:20231105T070000
END:STANDARD
BEGIN:DAYLIGHT
TZOFFSETFROM:-0600
TZOFFSETTO:-0500
TZNAME:CDT
DTSTART:20240310T080000
END:DAYLIGHT
BEGIN:STANDARD
TZOFFSETFROM:-0500
TZOFFSETTO:-0600
TZNAME:CST
DTSTART:20241103T070000
END:STANDARD
BEGIN:DAYLIGHT
TZOFFSETFROM:-0600
TZOFFSETTO:-0500
TZNAME:CDT
DTSTART:20250309T080000
END:DAYLIGHT
BEGIN:STANDARD
TZOFFSETFROM:-0500
TZOFFSETTO:-0600
TZNAME:CST
DTSTART:20251102T070000
END:STANDARD
BEGIN:DAYLIGHT
TZOFFSETFROM:-0600
TZOFFSETTO:-0500
TZNAME:CDT
DTSTART:20260308T080000
END:DAYLIGHT
BEGIN:STANDARD
TZOFFSETFROM:-0500
TZOFFSETTO:-0600
TZNAME:CST
DTSTART:20261101T070000
END:STANDARD
END:VTIMEZONE
BEGIN:VEVENT
DTSTART;TZID=America/Chicago:20250110T083000
DTEND;TZID=America/Chicago:20250110T123000
DTSTAMP:20260422T091638
CREATED:20241115T154121Z
LAST-MODIFIED:20241115T154121Z
UID:5367-1736497800-1736512200@www.mncia.org
SUMMARY:Small Grains Update Meeting
DESCRIPTION:Presenters and topics include: Dr. Jim Anderson\, Spring Wheat Breeder\, UMN: Spring Wheat Variety Selection for 2025; Bruce Kleven\, Legislative Strategist for MN Wheat: 2025 Minnesota Legislative Session Update; Dr. Angie Peltier\, Extension Crops Educator\, UMN NWROC\, Crookston: Growing Healthier Soybeans; Dr. Maciej Kazula\, Research Director\, MN Corn: Your Corn Check-off at Work in Research; Jim Emter\, CEO\, Van Ahn & Company\, Inc.: A Four Step Plan to Successful Grain Marketing in Uncertain Times. \nAttendance is free; registration is not necessary.
URL:https://www.mncia.org/event/small-grains-update-meeting-8/
LOCATION:St. Hilaire Community Center\, Saint Hilaire\, MN\, 56754\, United States
CATEGORIES:Small Grains Update
END:VEVENT
BEGIN:VEVENT
DTSTART;TZID=America/Chicago:20250109T120000
DTEND;TZID=America/Chicago:20250109T160000
DTSTAMP:20260422T091638
CREATED:20241115T153336Z
LAST-MODIFIED:20241115T153336Z
UID:5365-1736424000-1736438400@www.mncia.org
SUMMARY:Small Grains Update Meeting
DESCRIPTION:Presenters and topics include: Dr. Jim Anderson\, Spring Wheat Breeder\, UMN: Spring Wheat Variety Selection for 2025; Bruce Kleven\, Legislative Strategist for MN Wheat: 2025 Minnesota Legislative Session Update; Dr. Angie Peltier\, Extension Crops Educator\, UMN NWROC\, Crookston: Growing Healthier Soybeans; Dr. Maciej Kazula\, Research Director\, MN Corn: Your Corn Check-off at Work in Research; Jim Emter\, CEO\, Van Ahn & Company\, Inc.: A Four Step Plan to Successful Grain Marketing in Uncertain Times. \nAttendance is free; registration is not necessary.
URL:https://www.mncia.org/event/small-grains-update-meeting-7/
LOCATION:Gene’s Bar and Grill\, 1095 3rd St NW\, Roseau\, MN\, 56751\, United States
CATEGORIES:Small Grains Update
ORGANIZER;CN="Minnesota Association of Wheat Growers":MAILTO:mnwheat@mnwheat.com
END:VEVENT
BEGIN:VEVENT
DTSTART;TZID=America/Chicago:20250109T083000
DTEND;TZID=America/Chicago:20250109T123000
DTSTAMP:20260422T091638
CREATED:20241115T153121Z
LAST-MODIFIED:20241115T153121Z
UID:5361-1736411400-1736425800@www.mncia.org
SUMMARY:Small Grains Update Meeting
DESCRIPTION:Presenters and topics include: Dr. Jim Anderson\, Spring Wheat Breeder\, UMN: Spring Wheat Variety Selection for 2025; Bruce Kleven\, Legislative Strategist for MN Wheat: 2025 Minnesota Legislative Session Update; Dr. Angie Peltier\, Extension Crops Educator\, UMN NWROC\, Crookston: Growing Healthier Soybeans; Dr. Maciej Kazula\, Research Director\, MN Corn: Your Corn Check-off at Work in Research; Jim Emter\, CEO\, Van Ahn & Company\, Inc.: A Four Step Plan to Successful Grain Marketing in Uncertain Times. \nAttendance is free; registration is not necessary. \n 
URL:https://www.mncia.org/event/small-grains-update-meeting-6/
LOCATION:Lancaster Community Center\, Lancaster\, MN\, 56735\, United States
CATEGORIES:Small Grains Update
ORGANIZER;CN="Minnesota Association of Wheat Growers":MAILTO:mnwheat@mnwheat.com
END:VEVENT
BEGIN:VEVENT
DTSTART;TZID=America/Chicago:20250108T120000
DTEND;TZID=America/Chicago:20250108T160000
DTSTAMP:20260422T091638
CREATED:20241115T151629Z
LAST-MODIFIED:20241115T152317Z
UID:5357-1736337600-1736352000@www.mncia.org
SUMMARY:Small Grains Update Meeting
DESCRIPTION:Presenters and topics include: Dr. Jim Anderson\, Spring Wheat Breeder\, UMN: Spring Wheat Variety Selection for 2025; Bruce Kleven\, Legislative Strategist for MN Wheat: 2025 Minnesota Legislative Session Update; Dr. Angie Peltier\, Extension Crops Educator\, UMN NWROC\, Crookston: Growing Healthier Soybeans; Dr. Maciej Kazula\, Research Director\, MN Corn: Your Corn Check-off at Work in Research; Jim Emter\, CEO\, Van Ahn & Company\, Inc.: A Four Step Plan to Successful Grain Marketing in Uncertain Times. \nAttendance is free; registration is not necessary.
URL:https://www.mncia.org/event/small-grains-update-meeting-5/
LOCATION:Youngquist Auditorium\, 2900 University Ave\, Crookston\, MN\, 56716\, United States
CATEGORIES:Small Grains Update
ORGANIZER;CN="Minnesota Association of Wheat Growers":MAILTO:mnwheat@mnwheat.com
END:VEVENT
BEGIN:VEVENT
DTSTART;TZID=America/Chicago:20250108T080000
DTEND;TZID=America/Chicago:20250108T120000
DTSTAMP:20260422T091638
CREATED:20241115T150839Z
LAST-MODIFIED:20241115T150839Z
UID:5353-1736323200-1736337600@www.mncia.org
SUMMARY:Small Grains Update Meeting
DESCRIPTION:Presenters and topics include: Dr. Jim Anderson\, Spring Wheat Breeder\, UMN: Spring Wheat Variety Selection for 2025; Bruce Kleven\, Legislative Strategist for MN Wheat: 2025 Minnesota Legislative Session Update; Dr. Angie Peltier\, Extension Crops Educator\, UMN NWROC\, Crookston: Growing Healthier Soybeans; Dr. Maciej Kazula\, Research Director\, MN Corn: Your Corn Check-off at Work in Research; Jim Emter\, CEO\, Van Ahn & Company\, Inc.: A Four Step Plan to Successful Grain Marketing in Uncertain Times. \nAttendance is free; registration is not necessary.
URL:https://www.mncia.org/event/small-grains-update-meeting-4/
LOCATION:Legion Recreation Center\, 580 2nd Ave W\, Halstad\, MN\, 56548\, United States
CATEGORIES:Small Grains Update
ORGANIZER;CN="Minnesota Association of Wheat Growers":MAILTO:mnwheat@mnwheat.com
END:VEVENT
BEGIN:VEVENT
DTSTART;TZID=America/Chicago:20250107T120000
DTEND;TZID=America/Chicago:20250107T160000
DTSTAMP:20260422T091638
CREATED:20241115T145853Z
LAST-MODIFIED:20241115T150302Z
UID:5348-1736251200-1736265600@www.mncia.org
SUMMARY:Small Grains Update Meeting
DESCRIPTION:Presenters and topics include: Dr. Jim Anderson\, Spring Wheat Breeder\, UMN: Spring Wheat Variety Selection for 2025; Bruce Kleven\, Legislative Strategist for MN Wheat: 2025 Minnesota Legislative Session Update; Dr. Angie Peltier\, Extension Crops Educator\, UMN NWROC\, Crookston: Growing Healthier Soybeans; Dr. Maciej Kazula\, Research Director\, MN Corn: Your Corn Check-off at Work in Research; Jim Emter\, CEO\, Van Ahn & Company\, Inc.: A Four Step Plan to Successful Grain Marketing in Uncertain Times. \nAttendance is free; registration is not necessary.
URL:https://www.mncia.org/event/small-grains-update-meeting-3/
LOCATION:TAK Music Venue\, 1710 Center Avenue\, Dilworth\, Minnesota\, 56529\, United States
CATEGORIES:Small Grains Update
ORGANIZER;CN="Minnesota Association of Wheat Growers":MAILTO:mnwheat@mnwheat.com
END:VEVENT
BEGIN:VEVENT
DTSTART;TZID=America/Chicago:20240219T130000
DTEND;TZID=America/Chicago:20240219T150000
DTSTAMP:20260422T091638
CREATED:20231221T233924Z
LAST-MODIFIED:20240126T200139Z
UID:4370-1708347600-1708354800@www.mncia.org
SUMMARY:Small Grains Update Workshop: Le Center
DESCRIPTION:If you’re a farmer or crop consultant already producing small grains or are looking for another crop to add to your rotation\, these small grains management workshops are for you. The UMN Extension will offer workshops at several regional locations in January and February. The focus will be on production agronomics\, variety selection\, and economics. Time will be reserved to answer your production questions. \nLunch starts at noon. Contact Shane Bugeja at 507-357-8232\, please register by February 16 for meal count. \nVenue: Le Center 4H Building
URL:https://www.mncia.org/event/small-grains-update-workshop-le-center/
LOCATION:MN
CATEGORIES:Small Grains Update
ORGANIZER;CN="University of Minnesota Extension":MAILTO:mnext@umn.edu
END:VEVENT
BEGIN:VEVENT
DTSTART;VALUE=DATE:20240112
DTEND;VALUE=DATE:20240113
DTSTAMP:20260422T091638
CREATED:20231221T232854Z
LAST-MODIFIED:20231221T232854Z
UID:4364-1705017600-1705103999@www.mncia.org
SUMMARY:Small Grain Update Meeting: St. Hilaire
DESCRIPTION:Presenters and topics include: Dr. Jochum Wiersma\, UMN Small Grains Specialist\, spring wheat variety performance; Bruce Kleven\, Legislative Strategist for MN Wheat\, 2024 Minnesota legislative session update; Dr. Angie Peltier\, UMN Extension Educator\, pests\, Phytophthora\, white mold\, SCN\, and Frogeye leaf spot; Devin Hoffarth\, Market Development & Industry Relations Director of MN Corn\, new use opportunities for corn; Melissa Carlson\, VP of Research\, MN Wheat Research & Promotion Council\, wheat and soybean on-farm research results. \nVenue: St. Hilaire Community Center
URL:https://www.mncia.org/event/small-grain-update-meeting-st-hilaire/
LOCATION:MN
CATEGORIES:Small Grains Update
ORGANIZER;CN="Minnesota Association of Wheat Growers":MAILTO:mnwheat@mnwheat.com
END:VEVENT
BEGIN:VEVENT
DTSTART;VALUE=DATE:20240111
DTEND;VALUE=DATE:20240112
DTSTAMP:20260422T091638
CREATED:20231221T232350Z
LAST-MODIFIED:20231221T232350Z
UID:4360-1704931200-1705017599@www.mncia.org
SUMMARY:Small Grains Update Meeting: Roseau
DESCRIPTION:Presenters and topics include: Dr. Jochum Wiersma\, UMN Small Grains Specialist\, spring wheat variety performance; Bruce Kleven\, Legislative Strategist for MN Wheat\, 2024 Minnesota legislative session update; Dr. Angie Peltier\, UMN Extension Educator\, pests\, Phytophthora\, white mold\, SCN\, and Frogeye leaf spot; Devin Hoffarth\, Market Development & Industry Relations Director of MN Corn\, new use opportunities for corn; Melissa Carlson\, VP of Research\, MN Wheat Research & Promotion Council\, wheat and soybean on-farm research results.
URL:https://www.mncia.org/event/small-grains-update-meeting-roseau/
LOCATION:Gene’s Bar and Grill\, 1095 3rd St NW\, Roseau\, MN\, 56751\, United States
CATEGORIES:Small Grains Update
ORGANIZER;CN="Minnesota Association of Wheat Growers":MAILTO:mnwheat@mnwheat.com
END:VEVENT
BEGIN:VEVENT
DTSTART;VALUE=DATE:20240111
DTEND;VALUE=DATE:20240112
DTSTAMP:20260422T091638
CREATED:20231221T231929Z
LAST-MODIFIED:20231221T231929Z
UID:4356-1704931200-1705017599@www.mncia.org
SUMMARY:Small Grains Update Meeting: Hallock
DESCRIPTION:Presenters and topics include: Dr. Jochum Wiersma\, UMN Small Grains Specialist\, spring wheat variety performance; Bruce Kleven\, Legislative Strategist for MN Wheat\, 2024 Minnesota legislative session update; Dr. Angie Peltier\, UMN Extension Educator\, pests\, Phytophthora\, white mold\, SCN\, and Frogeye leaf spot; Devin Hoffarth\, Market Development & Industry Relations Director of MN Corn\, new use opportunities for corn; Melissa Carlson\, VP of Research\, MN Wheat Research & Promotion Council\, wheat and soybean on-farm research results.
URL:https://www.mncia.org/event/small-grains-update-meeting-hallock/
LOCATION:Hallock City Hall\, 163 3rd St SE\, Hallock\, MN\, 56728\, United States
CATEGORIES:Small Grains Update
ORGANIZER;CN="Minnesota Association of Wheat Growers":MAILTO:mnwheat@mnwheat.com
END:VEVENT
BEGIN:VEVENT
DTSTART;VALUE=DATE:20240110
DTEND;VALUE=DATE:20240111
DTSTAMP:20260422T091638
CREATED:20231221T231339Z
LAST-MODIFIED:20231221T231339Z
UID:4349-1704844800-1704931199@www.mncia.org
SUMMARY:Small Grains Update Meeting: Crookston
DESCRIPTION:Presenters and topics include: Dr. Jochum Wiersma\, UMN Small Grains Specialist\, spring wheat variety performance; Bruce Kleven\, Legislative Strategist for MN Wheat\, 2024 Minnesota legislative session update; Dr. Angie Peltier\, UMN Extension Educator\, pests\, Phytophthora\, white mold\, SCN\, and Frogeye leaf spot; Devin Hoffarth\, Market Development & Industry Relations Director of MN Corn\, new use opportunities for corn; Melissa Carlson\, VP of Research\, MN Wheat Research & Promotion Council\, wheat and soybean on-farm research results.
URL:https://www.mncia.org/event/small-grains-update-meeting-crookston/
LOCATION:Crookston Inn\, 2200 University Ave\, Crookston\, MN\, 56716\, United States
CATEGORIES:Small Grains Update
ORGANIZER;CN="Minnesota Association of Wheat Growers":MAILTO:mnwheat@mnwheat.com
END:VEVENT
BEGIN:VEVENT
DTSTART;VALUE=DATE:20240110
DTEND;VALUE=DATE:20240111
DTSTAMP:20260422T091638
CREATED:20231221T230813Z
LAST-MODIFIED:20231221T231407Z
UID:4345-1704844800-1704931199@www.mncia.org
SUMMARY:Small Grains Update Meeting: Ada
DESCRIPTION:Presenters and topics include: Dr. Jochum Wiersma\, UMN Small Grains Specialist\, spring wheat variety performance; Bruce Kleven\, Legislative Strategist for MN Wheat\, 2024 Minnesota legislative session update; Dr. Angie Peltier\, UMN Extension Educator\, pests\, Phytophthora\, white mold\, SCN\, and Frogeye leaf spot; Devin Hoffarth\, Market Development & Industry Relations Director of MN Corn\, new use opportunities for corn; Melissa Carlson\, VP of Research\, MN Wheat Research & Promotion Council\, wheat and soybean on-farm research results.
URL:https://www.mncia.org/event/small-grains-update-meeting-2/
LOCATION:Ada Event Center\, 415 W Main St\, Ada\, MN\, 56510\, United States
CATEGORIES:Small Grains Update
ORGANIZER;CN="Minnesota Association of Wheat Growers":MAILTO:mnwheat@mnwheat.com
END:VEVENT
BEGIN:VEVENT
DTSTART;VALUE=DATE:20240109
DTEND;VALUE=DATE:20240110
DTSTAMP:20260422T091638
CREATED:20231221T230201Z
LAST-MODIFIED:20231221T231426Z
UID:4340-1704758400-1704844799@www.mncia.org
SUMMARY:Small Grains Update Meeting: Dilworth
DESCRIPTION:Presenters and topics include: Dr. Jochum Wiersma\, UMN Small Grains Specialist\, spring wheat variety performance; Bruce Kleven\, Legislative Strategist for MN Wheat\, 2024 Minnesota legislative session update; Dr. Angie Peltier\, UMN Extension Educator\, pests\, Phytophthora\, white mold\, SCN\, and Frogeye leaf spot; Devin Hoffarth\, Market Development & Industry Relations Director of MN Corn\, new use opportunities for corn; Melissa Carlson\, VP of Research\, MN Wheat Research & Promotion Council\, wheat and soybean on-farm research results.
URL:https://www.mncia.org/event/small-grains-update-meeting/
LOCATION:Dilworth Community Center\, 709 First Ave NW\, Dilworth\, MN\, 56529\, United States
CATEGORIES:Small Grains Update
ORGANIZER;CN="Minnesota Association of Wheat Growers":MAILTO:mnwheat@mnwheat.com
END:VEVENT
BEGIN:VEVENT
DTSTART;TZID=America/Chicago:20220223T090000
DTEND;TZID=America/Chicago:20220223T100000
DTSTAMP:20260422T091638
CREATED:20220209T173858Z
LAST-MODIFIED:20220209T173858Z
UID:2600-1645606800-1645610400@www.mncia.org
SUMMARY:Small Grains Update—Webinar
DESCRIPTION:The Small Grains Update offers the latest recommendations for production and pest management. These workshops will be discussion-based meetings with a unique regional focus and include the following topics: \n\nProduction agronomics\nVariety selection\nSoil fertility\nEconomics
URL:https://www.mncia.org/event/small-grains-update-webinar/
LOCATION:Virtual
CATEGORIES:Small Grains Update
ORGANIZER;CN="University of Minnesota Extension":MAILTO:mnext@umn.edu
END:VEVENT
BEGIN:VEVENT
DTSTART;TZID=America/Chicago:20220218T130000
DTEND;TZID=America/Chicago:20220218T153000
DTSTAMP:20260422T091638
CREATED:20220209T164456Z
LAST-MODIFIED:20220209T164456Z
UID:2596-1645189200-1645198200@www.mncia.org
SUMMARY:Small Grains Update—Benson
DESCRIPTION:The Small Grains Update offers the latest recommendations for production and pest management. These workshops will be discussion-based meetings with a unique regional focus and include the following topics: \n\nProduction agronomics\nVariety selection\nSoil fertility\nEconomics
URL:https://www.mncia.org/event/small-grains-update-benson/
LOCATION:McKinney’s on Southside\, 300 14th St S\, Benson\, Minnesota\, 56215
CATEGORIES:Small Grains Update
ORGANIZER;CN="University of Minnesota Extension":MAILTO:mnext@umn.edu
END:VEVENT
BEGIN:VEVENT
DTSTART;TZID=America/Chicago:20220218T090000
DTEND;TZID=America/Chicago:20220218T233000
DTSTAMP:20260422T091638
CREATED:20220209T160156Z
LAST-MODIFIED:20220209T164632Z
UID:2585-1645174800-1645227000@www.mncia.org
SUMMARY:Small Grains Update—Cold Spring
DESCRIPTION:The Small Grains Update offers the latest recommendations for production and pest management. These workshops will be discussion-based meetings with a unique regional focus and include the following topics: \n\nProduction agronomics\nVariety selection\nSoil fertility\nEconomics
URL:https://www.mncia.org/event/small-grains-update-cold-spring/
LOCATION:The Great Blue Heron\, 305 5th Ave S\, Cold Spring\, MN\, 56320\, United States
CATEGORIES:Small Grains Update
ORGANIZER;CN="University of Minnesota Extension":MAILTO:mnext@umn.edu
END:VEVENT
BEGIN:VEVENT
DTSTART;TZID=America/Chicago:20220217T130000
DTEND;TZID=America/Chicago:20220217T153000
DTSTAMP:20260422T091638
CREATED:20220209T153641Z
LAST-MODIFIED:20220209T164612Z
UID:2578-1645102800-1645111800@www.mncia.org
SUMMARY:Small Grains Update—Slayton
DESCRIPTION:The Small Grains Update offers the latest recommendations for production and pest management. These workshops will be discussion-based meetings with a unique regional focus and include the following topics: \n\nProduction agronomics\nVariety selection\nSoil fertility\nEconomics
URL:https://www.mncia.org/event/small-grains-update-slayton/
LOCATION:Murray County 4-H Building\, Slayton\, MN\, United States
CATEGORIES:Small Grains Update
ORGANIZER;CN="University of Minnesota Extension":MAILTO:mnext@umn.edu
END:VEVENT
BEGIN:VEVENT
DTSTART;TZID=America/Chicago:20220215T130000
DTEND;TZID=America/Chicago:20220215T153000
DTSTAMP:20260422T091638
CREATED:20220209T150552Z
LAST-MODIFIED:20220209T164556Z
UID:2574-1644930000-1644939000@www.mncia.org
SUMMARY:Small Grains Update—Floodwood
DESCRIPTION:The Small Grains Update offers the latest recommendations for production and pest management. These workshops will be discussion-based meetings with a unique regional focus and include the following topics: \n\nProduction agronomics\nVariety selection\nSoil fertility\nEconomics
URL:https://www.mncia.org/event/small-grains-update-floodwood/
LOCATION:Downtown Fair Center\, 107 W 7th Ave\, Floodwood\, MN\, 55736\, United States
CATEGORIES:Small Grains Update
ORGANIZER;CN="University of Minnesota Extension":MAILTO:mnext@umn.edu
END:VEVENT
BEGIN:VEVENT
DTSTART;TZID=America/Chicago:20220214T130000
DTEND;TZID=America/Chicago:20220214T153000
DTSTAMP:20260422T091638
CREATED:20220209T145324Z
LAST-MODIFIED:20220209T164533Z
UID:2570-1644843600-1644852600@www.mncia.org
SUMMARY:Small Grains Update—Rochester
DESCRIPTION:The Small Grains Update offers the latest recommendations for production and pest management. These workshops will be discussion-based meetings with a unique regional focus and include the following topics: \n\nProduction agronomics\nVariety selection\nSoil fertility\nEconomics
URL:https://www.mncia.org/event/small-grains-update-rochester/
LOCATION:Country Inn & Suites\, Rochester South\, 77 Woodlake Dr SE\, Rochester\, MN\, 55904\, United States
CATEGORIES:Small Grains Update
ORGANIZER;CN="University of Minnesota Extension":MAILTO:mnext@umn.edu
END:VEVENT
BEGIN:VEVENT
DTSTART;TZID=America/Chicago:20220214T090000
DTEND;TZID=America/Chicago:20220214T113000
DTSTAMP:20260422T091638
CREATED:20220209T142433Z
LAST-MODIFIED:20220209T163206Z
UID:2566-1644829200-1644838200@www.mncia.org
SUMMARY:Small Grains Update—New Prague
DESCRIPTION:The Small Grains Update offers the latest recommendations for production and pest management. These workshops will be discussion-based meetings with a unique regional focus and include the following topics: \n\nProduction agronomics\nVariety selection\nSoil fertility\nEconomics
URL:https://www.mncia.org/event/small-grains-update-new-prague/
LOCATION:New Prague American Legion Clubroom\, 300 Lexington Ave S\, New Prague\, 56071\, United States
CATEGORIES:Small Grains Update
ORGANIZER;CN="University of Minnesota Extension":MAILTO:mnext@umn.edu
END:VEVENT
BEGIN:VEVENT
DTSTART;VALUE=DATE:20220201
DTEND;VALUE=DATE:20220202
DTSTAMP:20260422T091638
CREATED:20211213T224905Z
LAST-MODIFIED:20211213T224905Z
UID:2360-1643673600-1643759999@www.mncia.org
SUMMARY:Small Grains Update—McIntosh
DESCRIPTION:The Small Grains Update offers the latest recommendations for production and pest management. These workshops will be discussion-based meetings with a unique regional focus and include the following topics: \n\nProduction agronomics\nVariety selection\nSoil fertility\nEconomics
URL:https://www.mncia.org/event/small-grains-update-mcintosh/
LOCATION:McIntosh Community Center\, 240 Cleveland Ave SW\, McIntosh\, MN\, United States
CATEGORIES:Small Grains Update
ORGANIZER;CN="University of Minnesota Extension":MAILTO:mnext@umn.edu
END:VEVENT
BEGIN:VEVENT
DTSTART;VALUE=DATE:20220131
DTEND;VALUE=DATE:20220201
DTSTAMP:20260422T091638
CREATED:20211208T163627Z
LAST-MODIFIED:20211208T163627Z
UID:2309-1643587200-1643673599@www.mncia.org
SUMMARY:Small Grains Update—Roseau
DESCRIPTION:The Small Grains Update offers the latest recommendations for production and pest management.
URL:https://www.mncia.org/event/small-grains-update-roseau/
LOCATION:Roseau Civic Center\, 121 Center S\, Roseau\, MN\, 56751\, United States
CATEGORIES:Small Grains Update
ORGANIZER;CN="University of Minnesota Extension":MAILTO:mnext@umn.edu
END:VEVENT
BEGIN:VEVENT
DTSTART;VALUE=DATE:20220117
DTEND;VALUE=DATE:20220118
DTSTAMP:20260422T091638
CREATED:20211208T162728Z
LAST-MODIFIED:20211208T163646Z
UID:2302-1642377600-1642463999@www.mncia.org
SUMMARY:Small Grains Update—Morris
DESCRIPTION:The Small Grains Update offers the latest recommendations for production and pest management.
URL:https://www.mncia.org/event/small-grains-update-morris/
LOCATION:West Central Research & Outreach Center\, 46352 State Hwy 329\, Morris\, MN\, 56267\, United States
CATEGORIES:Small Grains Update
ORGANIZER;CN="University of Minnesota Extension":MAILTO:mnext@umn.edu
END:VEVENT
END:VCALENDAR