BEGIN:VCALENDAR
VERSION:2.0
PRODID:-//MCIA - ECPv6.15.20//NONSGML v1.0//EN
CALSCALE:GREGORIAN
METHOD:PUBLISH
X-ORIGINAL-URL:https://www.mncia.org
X-WR-CALDESC:Events for MCIA
REFRESH-INTERVAL;VALUE=DURATION:PT1H
X-Robots-Tag:noindex
X-PUBLISHED-TTL:PT1H
BEGIN:VTIMEZONE
TZID:America/Chicago
BEGIN:DAYLIGHT
TZOFFSETFROM:-0600
TZOFFSETTO:-0500
TZNAME:CDT
DTSTART:20200308T080000
END:DAYLIGHT
BEGIN:STANDARD
TZOFFSETFROM:-0500
TZOFFSETTO:-0600
TZNAME:CST
DTSTART:20201101T070000
END:STANDARD
BEGIN:DAYLIGHT
TZOFFSETFROM:-0600
TZOFFSETTO:-0500
TZNAME:CDT
DTSTART:20210314T080000
END:DAYLIGHT
BEGIN:STANDARD
TZOFFSETFROM:-0500
TZOFFSETTO:-0600
TZNAME:CST
DTSTART:20211107T070000
END:STANDARD
BEGIN:DAYLIGHT
TZOFFSETFROM:-0600
TZOFFSETTO:-0500
TZNAME:CDT
DTSTART:20220313T080000
END:DAYLIGHT
BEGIN:STANDARD
TZOFFSETFROM:-0500
TZOFFSETTO:-0600
TZNAME:CST
DTSTART:20221106T070000
END:STANDARD
BEGIN:DAYLIGHT
TZOFFSETFROM:-0600
TZOFFSETTO:-0500
TZNAME:CDT
DTSTART:20230312T080000
END:DAYLIGHT
BEGIN:STANDARD
TZOFFSETFROM:-0500
TZOFFSETTO:-0600
TZNAME:CST
DTSTART:20231105T070000
END:STANDARD
BEGIN:DAYLIGHT
TZOFFSETFROM:-0600
TZOFFSETTO:-0500
TZNAME:CDT
DTSTART:20240310T080000
END:DAYLIGHT
BEGIN:STANDARD
TZOFFSETFROM:-0500
TZOFFSETTO:-0600
TZNAME:CST
DTSTART:20241103T070000
END:STANDARD
BEGIN:DAYLIGHT
TZOFFSETFROM:-0600
TZOFFSETTO:-0500
TZNAME:CDT
DTSTART:20250309T080000
END:DAYLIGHT
BEGIN:STANDARD
TZOFFSETFROM:-0500
TZOFFSETTO:-0600
TZNAME:CST
DTSTART:20251102T070000
END:STANDARD
END:VTIMEZONE
BEGIN:VEVENT
DTSTART;VALUE=DATE:20241108
DTEND;VALUE=DATE:20241110
DTSTAMP:20260421T132848
CREATED:20240912T144738Z
LAST-MODIFIED:20240912T144738Z
UID:5143-1731024000-1731196799@www.mncia.org
SUMMARY:South Dakota Local Foods Conference
DESCRIPTION:For over ten years\, the South Dakota Local Foods Conference has provided education and networking for both producers and supporters of local foods. This ever-growing conference is a broad-spectrum event aimed at creating a better local food system in South Dakota. It celebrates South Dakota farmers\, eaters\, and food systems professionals who are committed to developing resilient communities and equitable food systems through sustainable agriculture\, robust partnerships\, and community education.
URL:https://www.mncia.org/event/south-dakota-local-foods-conference-2/
LOCATION:The Journey Museum\, 222 New York St\, Rapid City\, SD\, 57701\, United States
CATEGORIES:South Dakota Local Foods Conference
ORGANIZER;CN="South Dakota Local Foods Coalition":MAILTO:gabbi@dakotarural.org
END:VEVENT
BEGIN:VEVENT
DTSTART;VALUE=DATE:20231117
DTEND;VALUE=DATE:20231119
DTSTAMP:20260421T132848
CREATED:20230922T135009Z
LAST-MODIFIED:20230922T142152Z
UID:4089-1700179200-1700351999@www.mncia.org
SUMMARY:South Dakota Local Food Conference
DESCRIPTION:For over ten years\, the South Dakota Local Foods Conference has provided education and networking for both producers and supporters of local foods. This ever-growing conference is a broad-spectrum event aimed at creating a better local food system in South Dakota. It celebrates South Dakota farmers\, eaters\, and food systems professionals who are committed to developing resilient communities and equitable food systems through sustainable agriculture\, robust partnerships\, and community education. \nLocation: The HUB at Southeast Technical College\, Sioux Falls\, SD
URL:https://www.mncia.org/event/south-dakota-local-food-conference-2/
LOCATION:Southeast Technical College\, 2320 N Career Ave\, Sioux Falls\, SD\, 57107\, United States
CATEGORIES:South Dakota Local Foods Conference
ORGANIZER;CN="South Dakota Local Foods Coalition":MAILTO:gabbi@dakotarural.org
END:VEVENT
BEGIN:VEVENT
DTSTART;VALUE=DATE:20221117
DTEND;VALUE=DATE:20221120
DTSTAMP:20260421T132848
CREATED:20220825T160108Z
LAST-MODIFIED:20220825T160108Z
UID:3224-1668643200-1668902399@www.mncia.org
SUMMARY:South Dakota Local Food Conference
DESCRIPTION:
URL:https://www.mncia.org/event/south-dakota-local-food-conference/
LOCATION:Sturgis Community Center\, 1401 Lazelle St\, Sturgis\, SD\, 57785\, United States
CATEGORIES:South Dakota Local Foods Conference
END:VEVENT
BEGIN:VEVENT
DTSTART;VALUE=DATE:20211104
DTEND;VALUE=DATE:20211107
DTSTAMP:20260421T132848
CREATED:20210924T152619Z
LAST-MODIFIED:20210924T152619Z
UID:2084-1635984000-1636243199@www.mncia.org
SUMMARY:South Dakota Local Foods Conference
DESCRIPTION:
URL:https://www.mncia.org/event/south-dakota-local-foods-conference/
LOCATION:Virtual
CATEGORIES:South Dakota Local Foods Conference
END:VEVENT
END:VCALENDAR