BEGIN:VCALENDAR
VERSION:2.0
PRODID:-//MCIA - ECPv6.15.20//NONSGML v1.0//EN
CALSCALE:GREGORIAN
METHOD:PUBLISH
X-WR-CALNAME:MCIA
X-ORIGINAL-URL:https://www.mncia.org
X-WR-CALDESC:Events for MCIA
REFRESH-INTERVAL;VALUE=DURATION:PT1H
X-Robots-Tag:noindex
X-PUBLISHED-TTL:PT1H
BEGIN:VTIMEZONE
TZID:America/Chicago
BEGIN:DAYLIGHT
TZOFFSETFROM:-0600
TZOFFSETTO:-0500
TZNAME:CDT
DTSTART:20210314T080000
END:DAYLIGHT
BEGIN:STANDARD
TZOFFSETFROM:-0500
TZOFFSETTO:-0600
TZNAME:CST
DTSTART:20211107T070000
END:STANDARD
BEGIN:DAYLIGHT
TZOFFSETFROM:-0600
TZOFFSETTO:-0500
TZNAME:CDT
DTSTART:20220313T080000
END:DAYLIGHT
BEGIN:STANDARD
TZOFFSETFROM:-0500
TZOFFSETTO:-0600
TZNAME:CST
DTSTART:20221106T070000
END:STANDARD
BEGIN:DAYLIGHT
TZOFFSETFROM:-0600
TZOFFSETTO:-0500
TZNAME:CDT
DTSTART:20230312T080000
END:DAYLIGHT
BEGIN:STANDARD
TZOFFSETFROM:-0500
TZOFFSETTO:-0600
TZNAME:CST
DTSTART:20231105T070000
END:STANDARD
BEGIN:DAYLIGHT
TZOFFSETFROM:-0600
TZOFFSETTO:-0500
TZNAME:CDT
DTSTART:20240310T080000
END:DAYLIGHT
BEGIN:STANDARD
TZOFFSETFROM:-0500
TZOFFSETTO:-0600
TZNAME:CST
DTSTART:20241103T070000
END:STANDARD
END:VTIMEZONE
BEGIN:VEVENT
DTSTART;VALUE=DATE:20230610
DTEND;VALUE=DATE:20230615
DTSTAMP:20260421T035001
CREATED:20230503T140508Z
LAST-MODIFIED:20230503T140508Z
UID:3849-1686355200-1686787199@www.mncia.org
SUMMARY:ASTA Leadership Summit
DESCRIPTION:
URL:https://www.mncia.org/event/asta-leadership-summit-2/
LOCATION:Hyatt Regency Sacramento\, 1209 L St\, Sacramento\, CA\, 95814\, United States
CATEGORIES:ASTA
ORGANIZER;CN="ASTA":MAILTO:info@betterseed.org
END:VEVENT
BEGIN:VEVENT
DTSTART;VALUE=DATE:20230609
DTEND;VALUE=DATE:20230616
DTSTAMP:20260421T035001
CREATED:20230503T135555Z
LAST-MODIFIED:20230503T135555Z
UID:3842-1686268800-1686873599@www.mncia.org
SUMMARY:AOSA/SCST Annual Meeting
DESCRIPTION:
URL:https://www.mncia.org/event/aosa-scst-annual-meeting-2/
LOCATION:Delta Hotels Saskatoon Downtown\, 405 20th St E\, Saskatoon\, Saskatchewan\, S7K 6X6\, Canada
CATEGORIES:AOSA/SCST
END:VEVENT
BEGIN:VEVENT
DTSTART;VALUE=DATE:20230603
DTEND;VALUE=DATE:20230608
DTSTAMP:20260421T035001
CREATED:20230213T225440Z
LAST-MODIFIED:20230213T225440Z
UID:3719-1685750400-1686182399@www.mncia.org
SUMMARY:AOSCA Annual Meeting
DESCRIPTION:
URL:https://www.mncia.org/event/aosca-annual-meeting-3/
LOCATION:Hyatt Regency Bloomington – Minneapolis\, 3200 E 81st St\, Bloomington\, MN\, 55425\, United States
CATEGORIES:AOSCA
END:VEVENT
BEGIN:VEVENT
DTSTART;TZID=America/Chicago:20230601T150000
DTEND;TZID=America/Chicago:20230601T180000
DTSTAMP:20260421T035001
CREATED:20230511T210623Z
LAST-MODIFIED:20230511T210623Z
UID:3860-1685631600-1685642400@www.mncia.org
SUMMARY:Marbleseed Organic Field Day
DESCRIPTION:Pack your camp chair and join us for a summer’s afternoon in June at the farm of Wisconsin Women in Conservation (WiWiC) coach Lauren Langworthy! We will take a walk around Blue Ox Farm to see what Lauren along with husband Caleb are doing and how they are doing it. They raise grass-fed sheep\, sell lamb\, and have a small beef herd doing restoration work on their farm. See first-hand how they have worked with the NRCS (Natural Resources Conservation Service) to implement several conservation projects\, with a special focus on grazing. Light snacks and refreshments will be provided. All women farmers\, landowners and conservationists from Polk\, Barron\, Dunn and surrounding counties are welcome to attend– whatever your background\, from beginners to experts!
URL:https://www.mncia.org/event/marbleseed-organic-field-day/
LOCATION:Blue Ox Farm\, N11253 WI-25\, Wheeler\, WI\, 54772\, United States
CATEGORIES:Marbleseed Field Day
END:VEVENT
BEGIN:VEVENT
DTSTART;VALUE=DATE:20230529
DTEND;VALUE=DATE:20230530
DTSTAMP:20260421T035001
CREATED:20230306T162620Z
LAST-MODIFIED:20230306T162620Z
UID:3743-1685318400-1685404799@www.mncia.org
SUMMARY:MCIA Office Closed: Memorial Day
DESCRIPTION:The office of the Minnesota Crop Improvement Association will be closed in observance of the Memorial Day holiday.
URL:https://www.mncia.org/event/mcia-office-closed-memorial-day-3/
LOCATION:MCIA Office\, 1900 Hendon Ave\, Saint Paul\, MN\, 55423\, United States
CATEGORIES:MCIA Office Closed
ORGANIZER;CN="Minnesota Crop Improvement Association":MAILTO:mncia@mncia.org
END:VEVENT
BEGIN:VEVENT
DTSTART;TZID=America/Chicago:20230425T090000
DTEND;TZID=America/Chicago:20230427T170000
DTSTAMP:20260421T035001
CREATED:20230217T181804Z
LAST-MODIFIED:20230217T181804Z
UID:3729-1682413200-1682614800@www.mncia.org
SUMMARY:National Organic Standards Board Meeting
DESCRIPTION:The National Organic Standards Board  (NOSB) generally meets twice each year in a public forum to discuss and vote on recommendations to the USDA. These recommendations help the Department develop and refine the organic standards. \nThe in-person meeting will be webcast live for those who cannot travel. Should circumstances not permit an in-person meeting\, the meeting will be held virtually. Updates will be posted to the meeting webpage. \nThe NOSB invites oral and written public comment on its spring agenda topics. Registration for oral comment speaking slots will open in early March 2023. Written comments may be submitted via Regulations.gov. \nDeadlines: To be considered during the Spring 2023 Meeting\, written comments and requests to provide oral comments must be received by 11:59 pm ET on Wednesday\, April 5\, 2023. This timeframe gives the Board time to review the comments before the meeting.
URL:https://www.mncia.org/event/national-organic-standards-board-meeting-4/
LOCATION:Crowne Plaza Atlanta Midtown\, 590 W Peachtree St NW\, Atlanta\, GA\, 30308\, United States
CATEGORIES:National Organic Standards Board
ORGANIZER;CN="National Organic Standards Board":MAILTO:Michelle.arsenault@usda.gov
END:VEVENT
BEGIN:VEVENT
DTSTART;VALUE=DATE:20230407
DTEND;VALUE=DATE:20230408
DTSTAMP:20260421T035001
CREATED:20230306T162446Z
LAST-MODIFIED:20230306T162446Z
UID:3741-1680825600-1680911999@www.mncia.org
SUMMARY:MCIA Office Closed
DESCRIPTION:The office of the Minnesota Crop Improvement Association will be closed Friday.
URL:https://www.mncia.org/event/mcia-office-closed-7/
LOCATION:MCIA Office\, 1900 Hendon Ave\, Saint Paul\, MN\, 55423\, United States
CATEGORIES:MCIA Office Closed
ORGANIZER;CN="Minnesota Crop Improvement Association":MAILTO:mncia@mncia.org
END:VEVENT
BEGIN:VEVENT
DTSTART;VALUE=DATE:20230405
DTEND;VALUE=DATE:20230408
DTSTAMP:20260421T035001
CREATED:20230214T230816Z
LAST-MODIFIED:20241115T135910Z
UID:3723-1680652800-1680911999@www.mncia.org
SUMMARY:AOSCA Northern Region Meeting
DESCRIPTION:
URL:https://www.mncia.org/event/aosca-northern-region-meeting-4/
LOCATION:Lincoln Marriott Cornhusker Hotel\, 333 S 13th St\, Lincoln\, NE\, 68508\, United States
CATEGORIES:AOSCA
END:VEVENT
BEGIN:VEVENT
DTSTART;VALUE=DATE:20230321
DTEND;VALUE=DATE:20230322
DTSTAMP:20260421T035001
CREATED:20230130T164236Z
LAST-MODIFIED:20230130T164535Z
UID:3624-1679356800-1679443199@www.mncia.org
SUMMARY:MCIA Board of Directors Meeting
DESCRIPTION:Spring 2023 meeting of the MCIA Board of Directors.
URL:https://www.mncia.org/event/mcia-board-of-directors-meeting-8/
LOCATION:MCIA Office\, 1900 Hendon Ave\, Saint Paul\, MN\, 55423\, United States
CATEGORIES:MCIA Board of Directors
ORGANIZER;CN="Minnesota Crop Improvement Association":MAILTO:mncia@mncia.org
END:VEVENT
BEGIN:VEVENT
DTSTART;TZID=America/Chicago:20230301T090000
DTEND;TZID=America/Chicago:20230301T150000
DTSTAMP:20260421T035001
CREATED:20230207T151147Z
LAST-MODIFIED:20230207T151206Z
UID:3675-1677661200-1677682800@www.mncia.org
SUMMARY:Regenerative Systems Workshop
DESCRIPTION:Land Stewardship Project—Regenerative Systems Peer-to-Peer Workshop: Hear the latest insights in presentations from 3 of the region’s leading regenerative farmers – Tom Cotter\, Martin\, Larsen and Tom Finnegan – in this motivational day led by farmers\, for farmers\, as they tackle successful approaches to plants\, animals and machinery for regenerative system success within diverse sets of variables.
URL:https://www.mncia.org/event/regenerative-systems-workshop/
LOCATION:Bellechester Community Center\, 101 1st St\, Bellechester\, MN\, 55027\, United States
CATEGORIES:Land Stewardship Project
END:VEVENT
BEGIN:VEVENT
DTSTART;TZID=America/Chicago:20230224T100000
DTEND;TZID=America/Chicago:20230224T120000
DTSTAMP:20260421T035001
CREATED:20230202T230012Z
LAST-MODIFIED:20230202T230012Z
UID:3651-1677232800-1677240000@www.mncia.org
SUMMARY:Small Grains Workshop—Benson
DESCRIPTION:University of Minnesota Extension offers this workshop to address successful small grain management. Workshops will focus on production agronomics\, variety selection\, and economics\, and will include an open-forum discussion for related topics and on-farm experiences. \nAmong the presenters is Jochum Wiersma\, University of Minnesota Extension Small Grain Specialist. \nContact Scott Lee at 320-760-6129. Please register by Feb 22 for meal count. \n 
URL:https://www.mncia.org/event/small-grains-workshop-benson/
LOCATION:McKinney’s on Southside\, 300 14th St S\, Benson\, Minnesota\, 56215
CATEGORIES:UMN Extension Small Grains Workshop
ORGANIZER;CN="University of Minnesota Extension":MAILTO:mnext@umn.edu
END:VEVENT
BEGIN:VEVENT
DTSTART;TZID=America/Chicago:20230223T130000
DTEND;TZID=America/Chicago:20230223T163000
DTSTAMP:20260421T035001
CREATED:20230202T225309Z
LAST-MODIFIED:20230202T225309Z
UID:3649-1677157200-1677169800@www.mncia.org
SUMMARY:Small Grains Workshop—Slayton
DESCRIPTION:University of Minnesota Extension offers this workshop to address successful small grain management. The workshop will focus on production agronomics\, variety selection\, and economics\, and will include an open-forum discussion for related topics and on-farm experiences. \nAmong the presenters is Jochum Wiersma\, University of Minnesota Extension Small Grain Specialist. Also\, Diane Dewitte\, University of Minnesota Extension Swine Educator who will discuss research involving organic rye and hog production. \nContact Murray Co. Extension Office at 507-836-6927. Please register by Feb 21 for meal count.
URL:https://www.mncia.org/event/small-grains-workshop-slayton/
LOCATION:Murray County 4-H Building\, Slayton\, MN\, United States
CATEGORIES:UMN Extension Small Grains Workshop
ORGANIZER;CN="University of Minnesota Extension":MAILTO:mnext@umn.edu
END:VEVENT
BEGIN:VEVENT
DTSTART;VALUE=DATE:20230223
DTEND;VALUE=DATE:20230226
DTSTAMP:20260421T035001
CREATED:20221006T164448Z
LAST-MODIFIED:20230203T184654Z
UID:3294-1677110400-1677369599@www.mncia.org
SUMMARY:Marbleseed Organic Farming Conference
DESCRIPTION:The Marbleseed (formerly MOSES) Organic Farming Conference is widely known as the first and largest organic farming conference in the United States. Every year regenerative and organic farmers from a wide range of farm sizes\, experiences\, and backgrounds gather to learn the latest in organic farming methods\, build community\, and shape the future of the organic farming movement. \nWhether you’re certified organic\, using organic practices on your regenerative farm\, or considering the switch to organic\, you’ll find the people\, partners\, and skill-building opportunities to help your farm business thrive.
URL:https://www.mncia.org/event/marbleseed-organic-farming-conference/
LOCATION:La Crosse Center\, 300 Harborview Plaza\, La Crosse\, WI\, 54601\, United States
CATEGORIES:Marbleseed Organic Farming Conference
END:VEVENT
BEGIN:VEVENT
DTSTART;TZID=America/Chicago:20230222T090000
DTEND;TZID=America/Chicago:20230222T233000
DTSTAMP:20260421T035001
CREATED:20230202T221607Z
LAST-MODIFIED:20230202T221607Z
UID:3645-1677056400-1677108600@www.mncia.org
SUMMARY:Small Grains Workshop—Cold Spring
DESCRIPTION:University of Minnesota Extension offers this small grain workshop to address successful small grain management. Workshops will focus on production agronomics\, variety selection\, and economics\, and will include an open-forum discussion for related topics and on-farm experiences. \nAmong the presenters is Jochum Wiersma\, University of Minnesota Extension Small Grain Specialist.
URL:https://www.mncia.org/event/small-grains-workshop-cold-spring/
LOCATION:The Great Blue Heron\, 305 5th Ave S\, Cold Spring\, MN\, 56320\, United States
CATEGORIES:UMN Extension Small Grains Workshop
ORGANIZER;CN="University of Minnesota Extension":MAILTO:mnext@umn.edu
END:VEVENT
BEGIN:VEVENT
DTSTART;TZID=America/Chicago:20230221T090000
DTEND;TZID=America/Chicago:20230221T233000
DTSTAMP:20260421T035001
CREATED:20230202T220717Z
LAST-MODIFIED:20230202T220717Z
UID:3639-1676970000-1677022200@www.mncia.org
SUMMARY:Small Grains Workshop—Le Center
DESCRIPTION:University of Minnesota Extension offers this small grain workshops to address successful small grain management. The workshop will focus on production agronomics\, variety selection\, and economics\, and will include an open-forum discussion for related topics and on-farm experiences. \nAmong the presenters is Jochum Wiersma\, University of Minnesota Extension Small Grain Specialist. Also\, Diane Dewitte\, University of Minnesota Extension Swine Educator\, will discuss research involving organic rye and hog production. \nContact Shane Bugeja at 507-357-8232. Please register by Feb 19 for meal count.
URL:https://www.mncia.org/event/small-grains-workshop-le-center/
LOCATION:4H Family Center\, 320 S Plut Ave\, Le Center\, MN\, 56057\, United States
CATEGORIES:UMN Extension Small Grains Workshop
ORGANIZER;CN="University of Minnesota Extension":MAILTO:mnext@umn.edu
END:VEVENT
BEGIN:VEVENT
DTSTART;TZID=America/Chicago:20230220T130000
DTEND;TZID=America/Chicago:20230220T153000
DTSTAMP:20260421T035001
CREATED:20230202T200905Z
LAST-MODIFIED:20230202T220803Z
UID:3635-1676898000-1676907000@www.mncia.org
SUMMARY:Small Grains Workshop—Rochester
DESCRIPTION:University of Minnesota Extension offers this small grain workshops to address successful small grain management. The workshop will focus on production agronomics\, variety selection\, and economics\, and will include an open-forum discussion for related topics and on-farm experiences. \nAmong the presenters is Jochum Wiersma\, University of Minnesota Extension Small Grain Specialist. \nContact Nathan Drewitz at 507-258-8775.
URL:https://www.mncia.org/event/small-grains-workshop-rochester/
LOCATION:University of Minnesota Extension—Rochester\, 140 Elton Hills Lane NW\, Suite 201\, Rochester\, MN\, 55901\, United States
CATEGORIES:UMN Extension Small Grains Workshop
ORGANIZER;CN="University of Minnesota Extension":MAILTO:mnext@umn.edu
END:VEVENT
BEGIN:VEVENT
DTSTART;VALUE=DATE:20230209
DTEND;VALUE=DATE:20230210
DTSTAMP:20260421T035001
CREATED:20230113T221605Z
LAST-MODIFIED:20230113T222145Z
UID:3552-1675900800-1675987199@www.mncia.org
SUMMARY:Best of the Best in Wheat and Soybean Research
DESCRIPTION:The North Dakota State University and the University of Minnesota Extension\, along with the MN Association of Wheat Growers\, MN Wheat Research & Promotion Council\, MN Soybean Research & Promotion Council\, ND Soybean Council\, ND Grain Growers Association\, and ND Wheat Commission have joined together to present producers with current research information. In this workshop growers will have the opportunity to learn from researchers and extension specialists.
URL:https://www.mncia.org/event/best-of-the-best-in-wheat-and-soybean-research-2/
LOCATION:Courtyard Fargo Moorhead\, 1080 28th Ave S\, Moorhead\, MN\, 56560\, United States
CATEGORIES:Best of the Best in Wheat and Soybean Research
ORGANIZER;CN="Minnesota Association of Wheat Growers":MAILTO:mnwheat@mnwheat.com
END:VEVENT
BEGIN:VEVENT
DTSTART;VALUE=DATE:20230208
DTEND;VALUE=DATE:20230209
DTSTAMP:20260421T035001
CREATED:20230113T222527Z
LAST-MODIFIED:20230113T222527Z
UID:3557-1675814400-1675900799@www.mncia.org
SUMMARY:Best of the Best in Wheat and Soybean Research
DESCRIPTION:The North Dakota State University and the University of Minnesota Extension\, along with the MN Association of Wheat Growers\, MN Wheat Research & Promotion Council\, MN Soybean Research & Promotion Council\, ND Soybean Council\, ND Grain Growers Association\, and ND Wheat Commission have joined together to present producers with current research information. In this workshop growers will have the opportunity to learn from researchers and extension specialists.
URL:https://www.mncia.org/event/best-of-the-best-in-wheat-and-soybean-research/
LOCATION:Alerus Center\, 1200 South 42nd Street\,  Grand Forks\, ND\, 58201\, United States
CATEGORIES:Best of the Best in Wheat and Soybean Research
ORGANIZER;CN="Minnesota Association of Wheat Growers":MAILTO:mnwheat@mnwheat.com
END:VEVENT
BEGIN:VEVENT
DTSTART;VALUE=DATE:20230203
DTEND;VALUE=DATE:20230205
DTSTAMP:20260421T035001
CREATED:20230113T220948Z
LAST-MODIFIED:20230113T220948Z
UID:3548-1675382400-1675555199@www.mncia.org
SUMMARY:2023 Organic Vegetable Production Conference
DESCRIPTION:
URL:https://www.mncia.org/event/2023-organic-vegetable-production-conference/
LOCATION:Alliant Energy Center\, 1919 Alliant Energy Center Way\, Madison\, WI\, 53713\, United States
CATEGORIES:Organic Vegetable Production Conference
ORGANIZER;CN="University of Wisconsin Extension":MAILTO:info@extension.wisc.edu
END:VEVENT
BEGIN:VEVENT
DTSTART;TZID=America/Chicago:20230126T080000
DTEND;TZID=America/Chicago:20230128T200000
DTSTAMP:20260421T035001
CREATED:20230113T213919Z
LAST-MODIFIED:20230113T213919Z
UID:3535-1674720000-1674936000@www.mncia.org
SUMMARY:NPSAS 2023 Food & Farming Conference
DESCRIPTION:
URL:https://www.mncia.org/event/npsas-2023-food-farming-conference/
LOCATION:Holiday Inn—Fargo\, North Dakota\, 3803 13th Ave S\, Fargo\, MN\, 58103\, United States
CATEGORIES:NPSAS Food & Farming Conference
ORGANIZER;CN="Northern Plains Sustainable Ag":MAILTO:info@npsas.org
END:VEVENT
BEGIN:VEVENT
DTSTART;VALUE=DATE:20230118
DTEND;VALUE=DATE:20230120
DTSTAMP:20260421T035001
CREATED:20220825T161355Z
LAST-MODIFIED:20220825T161509Z
UID:3234-1674000000-1674172799@www.mncia.org
SUMMARY:MN Ag Expo
DESCRIPTION:
URL:https://www.mncia.org/event/mn-ag-expo-2/
LOCATION:Mayo Clinic Health System Event Center\, 1 Civic Center Plaza\, Mankato\, MN\, 56001\, United States
CATEGORIES:MN Ag Expo
END:VEVENT
BEGIN:VEVENT
DTSTART;VALUE=DATE:20230116
DTEND;VALUE=DATE:20230117
DTSTAMP:20260421T035001
CREATED:20220531T211051Z
LAST-MODIFIED:20220531T211051Z
UID:2934-1673827200-1673913599@www.mncia.org
SUMMARY:MCIA Office Closed: Martin Luther King Jr. Day
DESCRIPTION:The office of the Minnesota Crop Improvement Association will be closed in observance of Martin Luther King Jr. Day.
URL:https://www.mncia.org/event/mcia-office-closed-martin-luther-king-jr-day-3/
LOCATION:MCIA Office\, 1900 Hendon Ave\, Saint Paul\, MN\, 55423\, United States
CATEGORIES:MCIA Office Closed
ORGANIZER;CN="Minnesota Crop Improvement Association":MAILTO:mncia@mncia.org
END:VEVENT
BEGIN:VEVENT
DTSTART;VALUE=DATE:20230112
DTEND;VALUE=DATE:20230113
DTSTAMP:20260421T035001
CREATED:20220202T222414Z
LAST-MODIFIED:20220202T232027Z
UID:2513-1673481600-1673567999@www.mncia.org
SUMMARY:MCIA Annual Meeting
DESCRIPTION:Save the date for the 2023 MCIA Annual Meeting! The meeting venue and other details will be announced on the MCIA website in the fall of 2022.
URL:https://www.mncia.org/event/mcia-annual-meeting-3/
LOCATION:Bigwood Event Center\, 925 Western Ave\, Fergus Falls\, MN\, 56537\, United States
CATEGORIES:MCIA Annual Meeting
ORGANIZER;CN="Minnesota Crop Improvement Association":MAILTO:mncia@mncia.org
END:VEVENT
BEGIN:VEVENT
DTSTART;VALUE=DATE:20230105
DTEND;VALUE=DATE:20230107
DTSTAMP:20260421T035002
CREATED:20230113T214555Z
LAST-MODIFIED:20241101T224759Z
UID:3538-1672876800-1673049599@www.mncia.org
SUMMARY:Minnesota Organic Conference
DESCRIPTION:
URL:https://www.mncia.org/event/minnesota-organic-conference-2/
LOCATION:River’s Edge Convention Center\, 10 4th Ave S\, Saint Cloud\, MN\, 56301\, United States
CATEGORIES:Minnesota Organic Conference
END:VEVENT
BEGIN:VEVENT
DTSTART;VALUE=DATE:20221230
DTEND;VALUE=DATE:20230103
DTSTAMP:20260421T035002
CREATED:20220531T210619Z
LAST-MODIFIED:20220531T210745Z
UID:2931-1672358400-1672703999@www.mncia.org
SUMMARY:MCIA Office Closed: New Year's Holiday
DESCRIPTION:The office of the Minnesota Crop Improvement Association will be closed in observance of the New Year’s holiday.
URL:https://www.mncia.org/event/mcia-office-closed-new-years/
LOCATION:MCIA Office\, 1900 Hendon Ave\, Saint Paul\, MN\, 55423\, United States
CATEGORIES:MCIA Office Closed
ORGANIZER;CN="Minnesota Crop Improvement Association":MAILTO:mncia@mncia.org
END:VEVENT
BEGIN:VEVENT
DTSTART;VALUE=DATE:20221223
DTEND;VALUE=DATE:20221227
DTSTAMP:20260421T035002
CREATED:20220531T210302Z
LAST-MODIFIED:20220531T210302Z
UID:2929-1671753600-1672099199@www.mncia.org
SUMMARY:MCIA Office Closed: Christmas
DESCRIPTION:The office of the Minnesota Crop Improvement Association will be closed in observance of the Christmas holiday.
URL:https://www.mncia.org/event/mcia-office-closed-christmas-2/
LOCATION:MCIA Office\, 1900 Hendon Ave\, Saint Paul\, MN\, 55423\, United States
CATEGORIES:MCIA Office Closed
ORGANIZER;CN="Minnesota Crop Improvement Association":MAILTO:mncia@mncia.org
END:VEVENT
BEGIN:VEVENT
DTSTART;VALUE=DATE:20221207
DTEND;VALUE=DATE:20221209
DTSTAMP:20260421T035002
CREATED:20220825T160803Z
LAST-MODIFIED:20220825T160803Z
UID:3231-1670371200-1670543999@www.mncia.org
SUMMARY:Prairie Grains Conference
DESCRIPTION:
URL:https://www.mncia.org/event/prairie-grains-conference-2/
LOCATION:Alerus Center\, 1200 South 42nd Street\,  Grand Forks\, ND\, 58201\, United States
CATEGORIES:Prairie Grains Conference
ORGANIZER;CN="Minnesota Association of Wheat Growers":MAILTO:mnwheat@mnwheat.com
END:VEVENT
BEGIN:VEVENT
DTSTART;VALUE=DATE:20221205
DTEND;VALUE=DATE:20221209
DTSTAMP:20260421T035002
CREATED:20221107T220321Z
LAST-MODIFIED:20221107T220321Z
UID:3350-1670198400-1670543999@www.mncia.org
SUMMARY:ASTA's CSS & Seed Expo
DESCRIPTION:Join more than 2\,000 seed industry professionals from over 30 countries for America’s largest seed industry conference! A time-honored tradition each December\, this year’s CSS & Seed Expo will be our last year holding the event in Chicago\, where it has been held since 1946. Don’t miss this special year when we bid a fond farewell to our historical host city!
URL:https://www.mncia.org/event/astas-css-seed-expo/
LOCATION:Hyatt Regency Chicago\, 151 East Wacker Drive\, Chicago\, IL\, 60601\, United States
CATEGORIES:ASTA
ORGANIZER;CN="ASTA":MAILTO:info@betterseed.org
END:VEVENT
BEGIN:VEVENT
DTSTART;VALUE=DATE:20221124
DTEND;VALUE=DATE:20221126
DTSTAMP:20260421T035002
CREATED:20220531T210103Z
LAST-MODIFIED:20220531T210144Z
UID:2926-1669248000-1669420799@www.mncia.org
SUMMARY:MCIA Office Closed: Thanksgiving
DESCRIPTION:The office of the Minnesota Crop Improvement Association will be closed in observance of the Thanksgiving holiday.
URL:https://www.mncia.org/event/mcia-office-closed-thanksgiving-3/
LOCATION:MCIA Office\, 1900 Hendon Ave\, Saint Paul\, MN\, 55423\, United States
CATEGORIES:MCIA Office Closed
ORGANIZER;CN="Minnesota Crop Improvement Association":MAILTO:mncia@mncia.org
END:VEVENT
BEGIN:VEVENT
DTSTART;VALUE=DATE:20221120
DTEND;VALUE=DATE:20221122
DTSTAMP:20260421T035002
CREATED:20220825T160353Z
LAST-MODIFIED:20220826T174722Z
UID:3228-1668902400-1669075199@www.mncia.org
SUMMARY:Iowa Organic Conference
DESCRIPTION:
URL:https://www.mncia.org/event/iowa-organic-conference-2/
LOCATION:University of Iowa Memorial Union\, 125 North Madison Street\, Iowa City\, IA\, 52242\, United States
CATEGORIES:Iowa Organic Conference
ORGANIZER;CN="Iowa State University Organic Agriculture Program":MAILTO:kdelate@iastate.edu
END:VEVENT
END:VCALENDAR