BEGIN:VCALENDAR
VERSION:2.0
PRODID:-//MCIA - ECPv6.15.20//NONSGML v1.0//EN
CALSCALE:GREGORIAN
METHOD:PUBLISH
X-WR-CALNAME:MCIA
X-ORIGINAL-URL:https://www.mncia.org
X-WR-CALDESC:Events for MCIA
REFRESH-INTERVAL;VALUE=DURATION:PT1H
X-Robots-Tag:noindex
X-PUBLISHED-TTL:PT1H
BEGIN:VTIMEZONE
TZID:America/Chicago
BEGIN:DAYLIGHT
TZOFFSETFROM:-0600
TZOFFSETTO:-0500
TZNAME:CDT
DTSTART:20200308T080000
END:DAYLIGHT
BEGIN:STANDARD
TZOFFSETFROM:-0500
TZOFFSETTO:-0600
TZNAME:CST
DTSTART:20201101T070000
END:STANDARD
BEGIN:DAYLIGHT
TZOFFSETFROM:-0600
TZOFFSETTO:-0500
TZNAME:CDT
DTSTART:20210314T080000
END:DAYLIGHT
BEGIN:STANDARD
TZOFFSETFROM:-0500
TZOFFSETTO:-0600
TZNAME:CST
DTSTART:20211107T070000
END:STANDARD
BEGIN:DAYLIGHT
TZOFFSETFROM:-0600
TZOFFSETTO:-0500
TZNAME:CDT
DTSTART:20220313T080000
END:DAYLIGHT
BEGIN:STANDARD
TZOFFSETFROM:-0500
TZOFFSETTO:-0600
TZNAME:CST
DTSTART:20221106T070000
END:STANDARD
BEGIN:DAYLIGHT
TZOFFSETFROM:-0600
TZOFFSETTO:-0500
TZNAME:CDT
DTSTART:20230312T080000
END:DAYLIGHT
BEGIN:STANDARD
TZOFFSETFROM:-0500
TZOFFSETTO:-0600
TZNAME:CST
DTSTART:20231105T070000
END:STANDARD
END:VTIMEZONE
BEGIN:VEVENT
DTSTART;VALUE=DATE:20220605
DTEND;VALUE=DATE:20220610
DTSTAMP:20260422T191301
CREATED:20220427T212832Z
LAST-MODIFIED:20220506T145219Z
UID:2810-1654387200-1654819199@www.mncia.org
SUMMARY:AOSA SCST Annual Meeting
DESCRIPTION:
URL:https://www.mncia.org/event/aosa-annual-meeting/
LOCATION:DoubleTree by Hilton Hotel Chicago\, 9599 Skokie Boulevard\, Skokie\, IL\, 60077\, United States
CATEGORIES:AOSA/SCST
END:VEVENT
BEGIN:VEVENT
DTSTART;VALUE=DATE:20220530
DTEND;VALUE=DATE:20220531
DTSTAMP:20260422T191301
CREATED:20210603T155208Z
LAST-MODIFIED:20210603T174038Z
UID:1632-1653868800-1653955199@www.mncia.org
SUMMARY:MCIA Office Closed: Memorial Day
DESCRIPTION:The office of the Minnesota Crop Improvement Association will be closed in observance of the Memorial Day holiday.
URL:https://www.mncia.org/event/mcia-office-closed-memorial-day-2/
LOCATION:MN
CATEGORIES:MCIA Office Closed
END:VEVENT
BEGIN:VEVENT
DTSTART;VALUE=DATE:20220426
DTEND;VALUE=DATE:20220429
DTSTAMP:20260422T191301
CREATED:20220418T195233Z
LAST-MODIFIED:20220418T195233Z
UID:2788-1650931200-1651190399@www.mncia.org
SUMMARY:National Organic Standards Board Meeting
DESCRIPTION:The NOSB meets twice per year in a public forum to discuss the issues and vote on its final recommendations. The NOSB values transparency and public input\, inviting both advance written and in-person oral public comments to gain additional perspectives on their recommendations. All meetings are free and open to the public. \nNOSB Spring Meeting 2022 dates: \n• Public Comment Webinar Day 1: Tuesday\, April 19 from Noon – 5:00 pm EST\n• Public Comment Webinar Day 2: Thursday\, April 21 from Noon – 5:00 pm EST \n• NOSB Public Meeting Day 1: Tuesday\, April 26 from Noon – 5:00 pm EST\n• NOSB Public Meeting Day 2: Wednesday\, April 27 from Noon – 5:00 pm EST\n• NOSB Public Meeting Day 3: Thursday\, April 28 from Noon – 5:00 pm EST
URL:https://www.mncia.org/event/national-organic-standards-board-meeting-2/
LOCATION:Virtual
CATEGORIES:National Organic Standards Board
ORGANIZER;CN="National Organic Standards Board":MAILTO:Michelle.arsenault@usda.gov
END:VEVENT
BEGIN:VEVENT
DTSTART;VALUE=DATE:20220419
DTEND;VALUE=DATE:20220421
DTSTAMP:20260422T191301
CREATED:20220318T190037Z
LAST-MODIFIED:20220318T190037Z
UID:2710-1650326400-1650499199@www.mncia.org
SUMMARY:AOSCA Northern Region Meeting
DESCRIPTION:AOSCA Northern Region Meeting. Location: Lafayette\, Indiana. Contact AOSCA at 309-736-0120 for details.
URL:https://www.mncia.org/event/aosca-northern-region-meeting-3/
LOCATION:MN
CATEGORIES:AOSCA
END:VEVENT
BEGIN:VEVENT
DTSTART;VALUE=DATE:20220415
DTEND;VALUE=DATE:20220416
DTSTAMP:20260422T191301
CREATED:20210603T155039Z
LAST-MODIFIED:20210603T174027Z
UID:1630-1649980800-1650067199@www.mncia.org
SUMMARY:MCIA Office Closed
DESCRIPTION:
URL:https://www.mncia.org/event/mcia-office-closed-6/
LOCATION:MN
CATEGORIES:MCIA Office Closed
END:VEVENT
BEGIN:VEVENT
DTSTART;VALUE=DATE:20220331
DTEND;VALUE=DATE:20220401
DTSTAMP:20260422T191301
CREATED:20220202T220623Z
LAST-MODIFIED:20220202T220658Z
UID:2507-1648684800-1648771199@www.mncia.org
SUMMARY:MCIA Board of Directors Meeting
DESCRIPTION:Spring 2022 meeting of the MCIA Board of Directors.
URL:https://www.mncia.org/event/mcia-board-of-directors-meeting-5/
LOCATION:MCIA Office\, 1900 Hendon Ave\, Saint Paul\, MN\, 55423\, United States
CATEGORIES:MCIA Board of Directors
ORGANIZER;CN="Minnesota Crop Improvement Association":MAILTO:mncia@mncia.org
END:VEVENT
BEGIN:VEVENT
DTSTART;VALUE=DATE:20220224
DTEND;VALUE=DATE:20220227
DTSTAMP:20260422T191301
CREATED:20211011T204604Z
LAST-MODIFIED:20211011T204604Z
UID:2162-1645660800-1645919999@www.mncia.org
SUMMARY:MOSES Organic Farming Conference
DESCRIPTION:The MOSES Conference brings together all kinds of farmers and ag professionals to learn the latest organic production methods and build a supportive community of resilient organic and sustainable farms. Whether you’re certified organic\, using organic practices on your sustainable farm\, or considering the switch to organic\, you’ll find the latest information and make the right connections to help you succeed.
URL:https://www.mncia.org/event/moses-organic-farming-conference/
LOCATION:MN
CATEGORIES:Marbleseed Organic Farming Conference
END:VEVENT
BEGIN:VEVENT
DTSTART;TZID=America/Chicago:20220223T090000
DTEND;TZID=America/Chicago:20220223T100000
DTSTAMP:20260422T191301
CREATED:20220209T173858Z
LAST-MODIFIED:20220209T173858Z
UID:2600-1645606800-1645610400@www.mncia.org
SUMMARY:Small Grains Update—Webinar
DESCRIPTION:The Small Grains Update offers the latest recommendations for production and pest management. These workshops will be discussion-based meetings with a unique regional focus and include the following topics: \n\nProduction agronomics\nVariety selection\nSoil fertility\nEconomics
URL:https://www.mncia.org/event/small-grains-update-webinar/
LOCATION:Virtual
CATEGORIES:Small Grains Update
ORGANIZER;CN="University of Minnesota Extension":MAILTO:mnext@umn.edu
END:VEVENT
BEGIN:VEVENT
DTSTART;TZID=America/Chicago:20220218T130000
DTEND;TZID=America/Chicago:20220218T153000
DTSTAMP:20260422T191301
CREATED:20220209T164456Z
LAST-MODIFIED:20220209T164456Z
UID:2596-1645189200-1645198200@www.mncia.org
SUMMARY:Small Grains Update—Benson
DESCRIPTION:The Small Grains Update offers the latest recommendations for production and pest management. These workshops will be discussion-based meetings with a unique regional focus and include the following topics: \n\nProduction agronomics\nVariety selection\nSoil fertility\nEconomics
URL:https://www.mncia.org/event/small-grains-update-benson/
LOCATION:McKinney’s on Southside\, 300 14th St S\, Benson\, Minnesota\, 56215
CATEGORIES:Small Grains Update
ORGANIZER;CN="University of Minnesota Extension":MAILTO:mnext@umn.edu
END:VEVENT
BEGIN:VEVENT
DTSTART;TZID=America/Chicago:20220218T090000
DTEND;TZID=America/Chicago:20220218T233000
DTSTAMP:20260422T191301
CREATED:20220209T160156Z
LAST-MODIFIED:20220209T164632Z
UID:2585-1645174800-1645227000@www.mncia.org
SUMMARY:Small Grains Update—Cold Spring
DESCRIPTION:The Small Grains Update offers the latest recommendations for production and pest management. These workshops will be discussion-based meetings with a unique regional focus and include the following topics: \n\nProduction agronomics\nVariety selection\nSoil fertility\nEconomics
URL:https://www.mncia.org/event/small-grains-update-cold-spring/
LOCATION:The Great Blue Heron\, 305 5th Ave S\, Cold Spring\, MN\, 56320\, United States
CATEGORIES:Small Grains Update
ORGANIZER;CN="University of Minnesota Extension":MAILTO:mnext@umn.edu
END:VEVENT
BEGIN:VEVENT
DTSTART;TZID=America/Chicago:20220217T130000
DTEND;TZID=America/Chicago:20220217T153000
DTSTAMP:20260422T191301
CREATED:20220209T153641Z
LAST-MODIFIED:20220209T164612Z
UID:2578-1645102800-1645111800@www.mncia.org
SUMMARY:Small Grains Update—Slayton
DESCRIPTION:The Small Grains Update offers the latest recommendations for production and pest management. These workshops will be discussion-based meetings with a unique regional focus and include the following topics: \n\nProduction agronomics\nVariety selection\nSoil fertility\nEconomics
URL:https://www.mncia.org/event/small-grains-update-slayton/
LOCATION:Murray County 4-H Building\, Slayton\, MN\, United States
CATEGORIES:Small Grains Update
ORGANIZER;CN="University of Minnesota Extension":MAILTO:mnext@umn.edu
END:VEVENT
BEGIN:VEVENT
DTSTART;TZID=America/Chicago:20220215T130000
DTEND;TZID=America/Chicago:20220215T153000
DTSTAMP:20260422T191301
CREATED:20220209T150552Z
LAST-MODIFIED:20220209T164556Z
UID:2574-1644930000-1644939000@www.mncia.org
SUMMARY:Small Grains Update—Floodwood
DESCRIPTION:The Small Grains Update offers the latest recommendations for production and pest management. These workshops will be discussion-based meetings with a unique regional focus and include the following topics: \n\nProduction agronomics\nVariety selection\nSoil fertility\nEconomics
URL:https://www.mncia.org/event/small-grains-update-floodwood/
LOCATION:Downtown Fair Center\, 107 W 7th Ave\, Floodwood\, MN\, 55736\, United States
CATEGORIES:Small Grains Update
ORGANIZER;CN="University of Minnesota Extension":MAILTO:mnext@umn.edu
END:VEVENT
BEGIN:VEVENT
DTSTART;TZID=America/Chicago:20220214T130000
DTEND;TZID=America/Chicago:20220214T153000
DTSTAMP:20260422T191301
CREATED:20220209T145324Z
LAST-MODIFIED:20220209T164533Z
UID:2570-1644843600-1644852600@www.mncia.org
SUMMARY:Small Grains Update—Rochester
DESCRIPTION:The Small Grains Update offers the latest recommendations for production and pest management. These workshops will be discussion-based meetings with a unique regional focus and include the following topics: \n\nProduction agronomics\nVariety selection\nSoil fertility\nEconomics
URL:https://www.mncia.org/event/small-grains-update-rochester/
LOCATION:Country Inn & Suites\, Rochester South\, 77 Woodlake Dr SE\, Rochester\, MN\, 55904\, United States
CATEGORIES:Small Grains Update
ORGANIZER;CN="University of Minnesota Extension":MAILTO:mnext@umn.edu
END:VEVENT
BEGIN:VEVENT
DTSTART;TZID=America/Chicago:20220214T090000
DTEND;TZID=America/Chicago:20220214T113000
DTSTAMP:20260422T191301
CREATED:20220209T142433Z
LAST-MODIFIED:20220209T163206Z
UID:2566-1644829200-1644838200@www.mncia.org
SUMMARY:Small Grains Update—New Prague
DESCRIPTION:The Small Grains Update offers the latest recommendations for production and pest management. These workshops will be discussion-based meetings with a unique regional focus and include the following topics: \n\nProduction agronomics\nVariety selection\nSoil fertility\nEconomics
URL:https://www.mncia.org/event/small-grains-update-new-prague/
LOCATION:New Prague American Legion Clubroom\, 300 Lexington Ave S\, New Prague\, 56071\, United States
CATEGORIES:Small Grains Update
ORGANIZER;CN="University of Minnesota Extension":MAILTO:mnext@umn.edu
END:VEVENT
BEGIN:VEVENT
DTSTART;VALUE=DATE:20220212
DTEND;VALUE=DATE:20220213
DTSTAMP:20260422T191301
CREATED:20211213T224051Z
LAST-MODIFIED:20211213T224051Z
UID:2354-1644624000-1644710399@www.mncia.org
SUMMARY:SFA Annual Conference
DESCRIPTION:
URL:https://www.mncia.org/event/sfa-annual-conference/
LOCATION:College of Saint Benedict\, 37 S College Ave\, Saint Joseph\, MN\, 56374\, United States
CATEGORIES:SFA Annual Conference
ORGANIZER;CN="Sustainable Farming Association":MAILTO:info@sfa-mn.org
END:VEVENT
BEGIN:VEVENT
DTSTART;TZID=America/Chicago:20220209T080000
DTEND;TZID=America/Chicago:20220209T120000
DTSTAMP:20260422T191301
CREATED:20220128T173546Z
LAST-MODIFIED:20220128T173856Z
UID:2495-1644393600-1644408000@www.mncia.org
SUMMARY:2022 Industrial Hemp Production Forum
DESCRIPTION:You are invited to the 2022 Industrial Hemp Production Forum. \nThe half-day virtual event will be held Wednesday\, February 9\, 2022\, from 9 a.m. to noon. The event is free to attend. \nForum topics include updates on the MDA’s hemp licensing requirements\, the new inspection requirements for those processing hemp into other products\, and opportunities in fiber production.
URL:https://www.mncia.org/event/2022-industrial-hemp-production-forum/
LOCATION:Virtual
CATEGORIES:Industrial Hemp Production Forum
END:VEVENT
BEGIN:VEVENT
DTSTART;VALUE=DATE:20220207
DTEND;VALUE=DATE:20220209
DTSTAMP:20260422T191301
CREATED:20211213T223257Z
LAST-MODIFIED:20211213T223257Z
UID:2352-1644192000-1644364799@www.mncia.org
SUMMARY:Organic Vegetable Production Conference
DESCRIPTION:This producer-initiated conference is designed for advanced growers and attracts participants from throughout the Midwest and beyond.
URL:https://www.mncia.org/event/organic-vegetable-production-conference-2/
LOCATION:Virtual
CATEGORIES:Organic Vegetable Production Conference
ORGANIZER;CN="Dane County Agriculture Division of Extension":MAILTO:info@extension.wisc.edu
END:VEVENT
BEGIN:VEVENT
DTSTART;VALUE=DATE:20220203
DTEND;VALUE=DATE:20220205
DTSTAMP:20260422T191301
CREATED:20211213T223120Z
LAST-MODIFIED:20211213T223120Z
UID:2348-1643846400-1644019199@www.mncia.org
SUMMARY:Organic Vegetable Production Conference
DESCRIPTION:This producer-initiated conference is designed for advanced growers and attracts participants from throughout the Midwest and beyond.
URL:https://www.mncia.org/event/organic-vegetable-production-conference/
LOCATION:Virtual
CATEGORIES:Organic Vegetable Production Conference
ORGANIZER;CN="Dane County Agriculture Division of Extension":MAILTO:info@extension.wisc.edu
END:VEVENT
BEGIN:VEVENT
DTSTART;VALUE=DATE:20220201
DTEND;VALUE=DATE:20220202
DTSTAMP:20260422T191301
CREATED:20211213T224905Z
LAST-MODIFIED:20211213T224905Z
UID:2360-1643673600-1643759999@www.mncia.org
SUMMARY:Small Grains Update—McIntosh
DESCRIPTION:The Small Grains Update offers the latest recommendations for production and pest management. These workshops will be discussion-based meetings with a unique regional focus and include the following topics: \n\nProduction agronomics\nVariety selection\nSoil fertility\nEconomics
URL:https://www.mncia.org/event/small-grains-update-mcintosh/
LOCATION:McIntosh Community Center\, 240 Cleveland Ave SW\, McIntosh\, MN\, United States
CATEGORIES:Small Grains Update
ORGANIZER;CN="University of Minnesota Extension":MAILTO:mnext@umn.edu
END:VEVENT
BEGIN:VEVENT
DTSTART;VALUE=DATE:20220131
DTEND;VALUE=DATE:20220201
DTSTAMP:20260422T191301
CREATED:20211208T163627Z
LAST-MODIFIED:20211208T163627Z
UID:2309-1643587200-1643673599@www.mncia.org
SUMMARY:Small Grains Update—Roseau
DESCRIPTION:The Small Grains Update offers the latest recommendations for production and pest management.
URL:https://www.mncia.org/event/small-grains-update-roseau/
LOCATION:Roseau Civic Center\, 121 Center S\, Roseau\, MN\, 56751\, United States
CATEGORIES:Small Grains Update
ORGANIZER;CN="University of Minnesota Extension":MAILTO:mnext@umn.edu
END:VEVENT
BEGIN:VEVENT
DTSTART;VALUE=DATE:20220127
DTEND;VALUE=DATE:20220130
DTSTAMP:20260422T191301
CREATED:20211208T170012Z
LAST-MODIFIED:20211208T170333Z
UID:2313-1643241600-1643500799@www.mncia.org
SUMMARY:Northern Plains Food and Farming Conference
DESCRIPTION:Re-setting the food system: Human health\, soil health and farm viability.
URL:https://www.mncia.org/event/northern-plains-food-and-farming-conference/
LOCATION:Holiday Inn—Fargo\, North Dakota\, 3803 13th Ave S\, Fargo\, MN\, 58103\, United States
ORGANIZER;CN="Northern Plains Sustainable Ag":MAILTO:info@npsas.org
END:VEVENT
BEGIN:VEVENT
DTSTART;VALUE=DATE:20220119
DTEND;VALUE=DATE:20220121
DTSTAMP:20260422T191301
CREATED:20210924T145144Z
LAST-MODIFIED:20210924T145144Z
UID:2070-1642550400-1642723199@www.mncia.org
SUMMARY:MN Ag Expo
DESCRIPTION:
URL:https://www.mncia.org/event/mn-ag-expo/
LOCATION:Mayo Clinic Health System Event Center\, 1 Civic Center Plaza\, Mankato\, MN\, 56001\, United States
CATEGORIES:MN Ag Expo
ORGANIZER;CN="Minnesota Soybean Growers Association":MAILTO:info@mnsoybean.com
END:VEVENT
BEGIN:VEVENT
DTSTART;VALUE=DATE:20220117
DTEND;VALUE=DATE:20220118
DTSTAMP:20260422T191301
CREATED:20211208T162728Z
LAST-MODIFIED:20211208T163646Z
UID:2302-1642377600-1642463999@www.mncia.org
SUMMARY:Small Grains Update—Morris
DESCRIPTION:The Small Grains Update offers the latest recommendations for production and pest management.
URL:https://www.mncia.org/event/small-grains-update-morris/
LOCATION:West Central Research & Outreach Center\, 46352 State Hwy 329\, Morris\, MN\, 56267\, United States
CATEGORIES:Small Grains Update
ORGANIZER;CN="University of Minnesota Extension":MAILTO:mnext@umn.edu
END:VEVENT
BEGIN:VEVENT
DTSTART;VALUE=DATE:20220117
DTEND;VALUE=DATE:20220118
DTSTAMP:20260422T191301
CREATED:20210603T154956Z
LAST-MODIFIED:20210603T174018Z
UID:1628-1642377600-1642463999@www.mncia.org
SUMMARY:MCIA Office Closed: Martin Luther King Jr. Day
DESCRIPTION:The office of the Minnesota Crop Improvement Association will be closed in observance of the Martin Luther King Jr. holiday.
URL:https://www.mncia.org/event/mcia-office-closed-martin-luther-king-jr-day-2/
LOCATION:MN
CATEGORIES:MCIA Office Closed
END:VEVENT
BEGIN:VEVENT
DTSTART;TZID=America/Chicago:20220112T090000
DTEND;TZID=America/Chicago:20220112T110000
DTSTAMP:20260422T191301
CREATED:20211004T190431Z
LAST-MODIFIED:20211203T231016Z
UID:2149-1641978000-1641985200@www.mncia.org
SUMMARY:MCIA Annual Meeting
DESCRIPTION:MCIA’s 2022 Annual Meeting will be held via Zoom. To register\, click: here. \nFor meeting documents and other details about this event\, please visit MCIA’s Annual Meeting page.
URL:https://www.mncia.org/event/mcia-annual-meeting-2/
LOCATION:Virtual
CATEGORIES:MCIA Annual Meeting
ORGANIZER;CN="Minnesota Crop Improvement Association":MAILTO:mncia@mncia.org
END:VEVENT
BEGIN:VEVENT
DTSTART;VALUE=DATE:20220106
DTEND;VALUE=DATE:20220108
DTSTAMP:20260422T191301
CREATED:20211208T161751Z
LAST-MODIFIED:20241101T224721Z
UID:2298-1641427200-1641599999@www.mncia.org
SUMMARY:Minnesota Organic Conference
DESCRIPTION:Each year\, the Minnesota Department of Agriculture hosts this conference and trade show for farmers and others interested in organic agriculture.
URL:https://www.mncia.org/event/minnesota-organic-conference/
LOCATION:Virtual
CATEGORIES:Minnesota Organic Conference
END:VEVENT
BEGIN:VEVENT
DTSTART;VALUE=DATE:20211230
DTEND;VALUE=DATE:20220101
DTSTAMP:20260422T191301
CREATED:20210603T154814Z
LAST-MODIFIED:20211105T182529Z
UID:1626-1640822400-1640995199@www.mncia.org
SUMMARY:MCIA Office Closed
DESCRIPTION:The office of the Minnesota Crop Improvement Association will be closed December 30–31.
URL:https://www.mncia.org/event/mcia-office-closed-new-years-eve/
LOCATION:MN
CATEGORIES:MCIA Office Closed
ORGANIZER;CN="Minnesota Crop Improvement Association":MAILTO:mncia@mncia.org
END:VEVENT
BEGIN:VEVENT
DTSTART;VALUE=DATE:20211223
DTEND;VALUE=DATE:20211225
DTSTAMP:20260422T191301
CREATED:20210603T154512Z
LAST-MODIFIED:20211001T224057Z
UID:1624-1640217600-1640390399@www.mncia.org
SUMMARY:MCIA Office Closed
DESCRIPTION:The office of the Minnesota Crop Improvement Association will be closed.
URL:https://www.mncia.org/event/mcia-office-closed-christmas-eve/
LOCATION:MCIA Office\, 1900 Hendon Ave\, Saint Paul\, MN\, 55423\, United States
CATEGORIES:MCIA Office Closed
ORGANIZER;CN="Minnesota Crop Improvement Association":MAILTO:mncia@mncia.org
END:VEVENT
BEGIN:VEVENT
DTSTART;VALUE=DATE:20211208
DTEND;VALUE=DATE:20211210
DTSTAMP:20260422T191301
CREATED:20210924T151007Z
LAST-MODIFIED:20210924T151007Z
UID:2078-1638921600-1639094399@www.mncia.org
SUMMARY:Prairie Grains Conference
DESCRIPTION:
URL:https://www.mncia.org/event/prairie-grains-conference/
LOCATION:Alerus Center\, 1200 South 42nd Street\,  Grand Forks\, ND\, 58201\, United States
CATEGORIES:Prairie Grains Conference
ORGANIZER;CN="Minnesota Association of Wheat Growers":MAILTO:mnwheat@mnwheat.com
END:VEVENT
BEGIN:VEVENT
DTSTART;VALUE=DATE:20211206
DTEND;VALUE=DATE:20211210
DTSTAMP:20260422T191301
CREATED:20211104T210733Z
LAST-MODIFIED:20211208T170628Z
UID:2197-1638748800-1639094399@www.mncia.org
SUMMARY:ASTA CSS & Seed Expo
DESCRIPTION:
URL:https://www.mncia.org/event/asta-css-seed-expo/
LOCATION:Hyatt Regency Chicago\, 151 East Wacker Drive\, Chicago\, IL\, 60601\, United States
CATEGORIES:ASTA
ORGANIZER;CN="ASTA":MAILTO:info@betterseed.org
END:VEVENT
END:VCALENDAR