BEGIN:VCALENDAR
VERSION:2.0
PRODID:-//MCIA - ECPv6.15.20//NONSGML v1.0//EN
CALSCALE:GREGORIAN
METHOD:PUBLISH
X-WR-CALNAME:MCIA
X-ORIGINAL-URL:https://www.mncia.org
X-WR-CALDESC:Events for MCIA
REFRESH-INTERVAL;VALUE=DURATION:PT1H
X-Robots-Tag:noindex
X-PUBLISHED-TTL:PT1H
BEGIN:VTIMEZONE
TZID:America/Chicago
BEGIN:DAYLIGHT
TZOFFSETFROM:-0600
TZOFFSETTO:-0500
TZNAME:CDT
DTSTART:20210314T080000
END:DAYLIGHT
BEGIN:STANDARD
TZOFFSETFROM:-0500
TZOFFSETTO:-0600
TZNAME:CST
DTSTART:20211107T070000
END:STANDARD
BEGIN:DAYLIGHT
TZOFFSETFROM:-0600
TZOFFSETTO:-0500
TZNAME:CDT
DTSTART:20220313T080000
END:DAYLIGHT
BEGIN:STANDARD
TZOFFSETFROM:-0500
TZOFFSETTO:-0600
TZNAME:CST
DTSTART:20221106T070000
END:STANDARD
BEGIN:DAYLIGHT
TZOFFSETFROM:-0600
TZOFFSETTO:-0500
TZNAME:CDT
DTSTART:20230312T080000
END:DAYLIGHT
BEGIN:STANDARD
TZOFFSETFROM:-0500
TZOFFSETTO:-0600
TZNAME:CST
DTSTART:20231105T070000
END:STANDARD
END:VTIMEZONE
BEGIN:VEVENT
DTSTART;TZID=America/Chicago:20220721T083000
DTEND;TZID=America/Chicago:20220721T120000
DTSTAMP:20260424T100106
CREATED:20220505T214147Z
LAST-MODIFIED:20220617T145931Z
UID:2862-1658392200-1658404800@www.mncia.org
SUMMARY:Marbleseed On-farm Field Day
DESCRIPTION:Crop Rotations on a Large-scale Organic Farm: Join 2013 MOSES Farmer of the Year Charlie Johnson and his family for their annual field day and bus tour in South Dakota! Learn how the importance of good crop rotations in an organic system and grazing contribute to resilient\, healthy soil. Oat trials in their fourth year\, conducted by SDSU on the Johnson Farm\, will also be one of the bus tour stops. Lunch will also be provided.
URL:https://www.mncia.org/event/marbleseed-on-farm-field-day-crop-rotations-on-a-large-scale-organic-farm/
LOCATION:St. Peter on the Prairie\, 24311 452nd Ave\, Madison\, SD\, United States
CATEGORIES:Marbleseed Field Day
END:VEVENT
END:VCALENDAR